BEGIN:VCALENDAR
VERSION:2.0
PRODID:-//Date iCal v2.14-dev//NONSGML kigkonsult.se iCalcreator 2.16.6//
METHOD:PUBLISH
X-WR-CALNAME;VALUE=TEXT:Greater Baltimore Cultural Alliance
BEGIN:VTIMEZONE
TZID:America/New_York
BEGIN:STANDARD
DTSTART:20241103T020000
TZOFFSETFROM:-0400
TZOFFSETTO:-0500
TZNAME:EST
END:STANDARD
BEGIN:DAYLIGHT
DTSTART:20250309T020000
TZOFFSETFROM:-0500
TZOFFSETTO:-0400
TZNAME:EDT
END:DAYLIGHT
END:VTIMEZONE
BEGIN:VEVENT
UID:calendar.36150.field_fc_date.0@www.baltimoreculture.org
DTSTAMP:20260423T182712Z
ATTACH;FMTTYPE=image/png:https://www.baltimoreculture.org/sites/default/fil
 es/event-image/In%20Gratitude_EWF_Promo_500x500.png
CATEGORIES:Performance
CREATED:20240725T044021Z
DESCRIPTION:Back by popular demand, this acclaimed tribute ensemble honori
 ng the  legendary musical powerhouse returns to the Gordon stage.
DTSTART;TZID=America/New_York:20240914T190000
DTEND;TZID=America/New_York:20240914T210000
LAST-MODIFIED:20240729T163002Z
LOCATION:The Gordon Center for Performing Arts, 3506 Gwynbrooke Avenue, O
 wings Mills, MD
SUMMARY:In Gratitude: A Tribute to Earth, Wind and Fire
URL:https://gordoncenter.com/event/in-gratitude-a-tribute-to-earth-wind-and
 -fire/
X-GBCA-NID:36150
END:VEVENT
END:VCALENDAR
