BEGIN:VCALENDAR
VERSION:2.0
PRODID:-//Date iCal v2.14-dev//NONSGML kigkonsult.se iCalcreator 2.16.6//
METHOD:PUBLISH
X-WR-CALNAME;VALUE=TEXT:Greater Baltimore Cultural Alliance
BEGIN:VTIMEZONE
TZID:America/New_York
BEGIN:STANDARD
DTSTART:20241103T020000
TZOFFSETFROM:-0400
TZOFFSETTO:-0500
TZNAME:EST
END:STANDARD
BEGIN:DAYLIGHT
DTSTART:20250309T020000
TZOFFSETFROM:-0500
TZOFFSETTO:-0400
TZNAME:EDT
END:DAYLIGHT
END:VTIMEZONE
BEGIN:VEVENT
UID:calendar.36165.field_fc_date.0@www.baltimoreculture.org
DTSTAMP:20260422T103315Z
ATTACH;FMTTYPE=image/jpeg:https://www.baltimoreculture.org/sites/default/fi
 les/event-image/nmtc-ttt-header-768x398.jpg
CATEGORIES:Exhibition,Lectures/ Workshops,Activities,History & Heritage\
 ,Professional Development,Other
CREATED:20240727T164741Z
DESCRIPTION:Technical Talk Tuesdays (TTT) is a free quarterly series sponso
 red by the  Discovery Center at Waters Edge (DCWE) and the Northeastern Ma
 ryland  Technical Council (NMTC). Designed to engage the community, espec
 ially youth,  the series covers cutting-edge technology (iDisrupter Serie
 s) like AI,  advanced 3D printing, and quantum computing, as well as th
 e history and  evolution of technology (Science Series). The goal is to ig
 nite interest in  science and technology and foster the future STEM workfo
 rce.
DTSTART;TZID=America/New_York:20240820T180000
DTEND;TZID=America/New_York:20240820T210000
LAST-MODIFIED:20240729T163002Z
LOCATION: Discovery Center at Water's Edge, 4505 Pulaski Hwy, Belcamp, M
 D
SUMMARY:NMTC'S iDISRUPTOR Series: Artificial Intelligence for Beginners
URL:https://discoverycentermd.org/ttt/
X-GBCA-NID:36165
END:VEVENT
END:VCALENDAR
