BEGIN:VCALENDAR
VERSION:2.0
PRODID:-//Date iCal v2.14-dev//NONSGML kigkonsult.se iCalcreator 2.16.6//
METHOD:PUBLISH
X-WR-CALNAME;VALUE=TEXT:Greater Baltimore Cultural Alliance
BEGIN:VTIMEZONE
TZID:America/New_York
BEGIN:STANDARD
DTSTART:20241103T020000
TZOFFSETFROM:-0400
TZOFFSETTO:-0500
TZNAME:EST
END:STANDARD
BEGIN:DAYLIGHT
DTSTART:20250309T020000
TZOFFSETFROM:-0500
TZOFFSETTO:-0400
TZNAME:EDT
END:DAYLIGHT
END:VTIMEZONE
BEGIN:VEVENT
UID:calendar.36231.field_fc_date.0@www.baltimoreculture.org
DTSTAMP:20260424T023231Z
ATTACH;FMTTYPE=image/jpeg:https://www.baltimoreculture.org/sites/default/fi
 les/event-image/6.JPG
CATEGORIES:Activities,History & Heritage,Other
CREATED:20240808T221939Z
DESCRIPTION:'I'm going to steal the Declaration of Independence.' This was 
 the iconic  line delivered in the 2004 movie National Treasure, which cel
 ebrates its 20th  anniversary this year. Aubrey Paris and Emily Black, ho
 sts of the hit  National Treasure Hunt podcast, break down the film's his
 tory, science,  ciphers, and movie magic in their debut book, National
  Treasure Hunt: One  Step Short of Crazy. Now they're visiting Baltimore C
 ounty Public Library,  Essex Branch, for a 20th anniversary screening of
  the film, followed by a Q&A  session and book signing.
DTSTART;TZID=America/New_York:20240824T130000
DTEND;TZID=America/New_York:20240824T160000
LAST-MODIFIED:20240813T163936Z
LOCATION:Baltimore County Public Library - Essex Branch, 1110 Eastern Boul
 evard, Essex, MD
SUMMARY:National Treasure 20th Anniversary Screening, Q&A, and Book Signi
 ng
URL:https://events.bcpl.info/event/11370454
X-GBCA-NID:36231
END:VEVENT
END:VCALENDAR
