BEGIN:VCALENDAR
VERSION:2.0
PRODID:-//Date iCal v2.14-dev//NONSGML kigkonsult.se iCalcreator 2.16.6//
METHOD:PUBLISH
X-WR-CALNAME;VALUE=TEXT:Greater Baltimore Cultural Alliance
BEGIN:VTIMEZONE
TZID:America/New_York
BEGIN:STANDARD
DTSTART:20241103T020000
TZOFFSETFROM:-0400
TZOFFSETTO:-0500
TZNAME:EST
END:STANDARD
BEGIN:DAYLIGHT
DTSTART:20250309T020000
TZOFFSETFROM:-0500
TZOFFSETTO:-0400
TZNAME:EDT
END:DAYLIGHT
END:VTIMEZONE
BEGIN:VEVENT
UID:calendar.36297.field_fc_date.0@www.baltimoreculture.org
DTSTAMP:20260423T041917Z
ATTACH;FMTTYPE=image/jpeg:https://www.baltimoreculture.org/sites/default/fi
 les/event-image/08.21.2024_Teddy%20Plays%20Eddie%20%28Instagram%20Post%29.
 jpeg
CATEGORIES:Performance,History & Heritage,Nightlife
CREATED:20240820T174337Z
DESCRIPTION:The *Tedd Baker Quartet* celebrates the music of the great Eddi
 e Harris! One  of Baker’s many influences, Eddie’s sounds on the saxophon
 e, his  compositions, publications, and the stories surrounding him, a
 re “near and  dear… His music is as current now as when first released.” E
 ddie played  the original Keystone Korner many times, and “All The Way Li
 ve” was  recorded there with organ great Jimmy Smith. Baker has gotten to 
 know the  Harris family over the years and asked permission to present thi
 s program.  Join the fun for an evening of exciting music with very specia
 l guests!
DTSTART;TZID=America/New_York:20240821T190000
DTEND;TZID=America/New_York:20240821T203000
LAST-MODIFIED:20240820T193711Z
LOCATION:Keystone Korner Baltimore, 1350 Lancaster Street, Baltimore, MD
SUMMARY:Teddy Plays Eddie - Tedd Baker Quartet plays the music of Eddie Har
 ris
URL:https://www.instantseats.com/?fuseaction=home.artist&VenueID=514&artist
 id=26804&_gl=1*9xeasf*_gcl_au*MTE4NDM2NjI1Ny4xNzIzNDE4MjEz*_ga*MTMzNzEzNzY
 wNi4xNzIzNDE4MjEz*_ga_XFCVF897QY*MTcyMzQ2NTM0OC4zLjEuMTcyMzQ2NTY4My4wLjAuM
 A..
X-GBCA-NID:36297
END:VEVENT
END:VCALENDAR
