BEGIN:VCALENDAR
VERSION:2.0
PRODID:-//Date iCal v2.14-dev//NONSGML kigkonsult.se iCalcreator 2.16.6//
METHOD:PUBLISH
X-WR-CALNAME;VALUE=TEXT:Greater Baltimore Cultural Alliance
BEGIN:VTIMEZONE
TZID:America/New_York
BEGIN:STANDARD
DTSTART:20241103T020000
TZOFFSETFROM:-0400
TZOFFSETTO:-0500
TZNAME:EST
END:STANDARD
BEGIN:DAYLIGHT
DTSTART:20250309T020000
TZOFFSETFROM:-0500
TZOFFSETTO:-0400
TZNAME:EDT
END:DAYLIGHT
END:VTIMEZONE
BEGIN:VEVENT
UID:calendar.36328.field_fc_date.0@www.baltimoreculture.org
DTSTAMP:20260423T142235Z
ATTACH;FMTTYPE=image/jpeg:https://www.baltimoreculture.org/sites/default/fi
 les/u497/CIRCA-McCully.jpg
CATEGORIES:Lectures/ Workshops
CREATED:20240825T151451Z
DESCRIPTION:UMBC's Center for Innovation, Research, and Creativity in the
  Arts [1]  (CIRCA) presents /*Playing with Climate Science*/, featuring *
 Susan McCully*  [2].\n\n\n[1] https://circa.umbc.edu/ [2] https://theatre.
 umbc.edu/about-us/faculty/susan-mccully/
DTSTART;TZID=America/New_York:20240925T120000
DTEND;TZID=America/New_York:20240925T130000
GEO:+39.255114;-76.711196
LAST-MODIFIED:20241130T001256Z
LOCATION:UMBC Performing Arts and Humanities Building, 1000 Hilltop Circle
 , Baltimore, MD
SUMMARY:Playing with Climate Science
URL:https://umbc.edu/event/playing-with-climate-science/
X-GBCA-NID:36328
END:VEVENT
END:VCALENDAR
