BEGIN:VCALENDAR
VERSION:2.0
PRODID:-//Date iCal v2.14-dev//NONSGML kigkonsult.se iCalcreator 2.16.6//
METHOD:PUBLISH
X-WR-CALNAME;VALUE=TEXT:Greater Baltimore Cultural Alliance
BEGIN:VTIMEZONE
TZID:America/New_York
BEGIN:STANDARD
DTSTART:20241103T020000
TZOFFSETFROM:-0400
TZOFFSETTO:-0500
TZNAME:EST
END:STANDARD
BEGIN:DAYLIGHT
DTSTART:20250309T020000
TZOFFSETFROM:-0500
TZOFFSETTO:-0400
TZNAME:EDT
END:DAYLIGHT
END:VTIMEZONE
BEGIN:VEVENT
UID:calendar.36353.field_fc_date.0@www.baltimoreculture.org
DTSTAMP:20260426T021913Z
ATTACH;FMTTYPE=image/jpeg:https://www.baltimoreculture.org/sites/default/fi
 les/u147/B%20%26%20W%20Cabaret%20Noir%20by%20Margaret%20Hart.jpg
CATEGORIES:Performance
CREATED:20240826T210750Z
DESCRIPTION:/“…Those who love Film Noir will be delighted, those who don’t
  care for  it will be charmed and amused, and those who don’t know about 
 it will never  hereafter be able to take it seriously. A glimmer of story\
 , a hatful of  characters, a whisper of atmosphere, a smorgasbord of mus
 ic and a scent of  mystery.” /– BroadwayWorld
DTSTART;TZID=America/New_York:20241024T193000
DTEND;TZID=America/New_York:20241024T213000
GEO:+39.304254;-76.618327
LAST-MODIFIED:20241022T142355Z
LOCATION:Theatre Project, 45 West Preston Street, Baltimore, MD
RRULE:FREQ=WEEKLY;UNTIL=20241110T095959Z;INTERVAL=1;BYDAY=FR,SA;WKST=SU
SUMMARY:CABARET NOIR
URL:https://theatreproject.org/cabaret-noir/
X-GBCA-NID:36353
END:VEVENT
END:VCALENDAR
