BEGIN:VCALENDAR
VERSION:2.0
PRODID:-//Date iCal v2.14-dev//NONSGML kigkonsult.se iCalcreator 2.16.6//
METHOD:PUBLISH
X-WR-CALNAME;VALUE=TEXT:Greater Baltimore Cultural Alliance
BEGIN:VTIMEZONE
TZID:America/New_York
BEGIN:STANDARD
DTSTART:20241103T020000
TZOFFSETFROM:-0400
TZOFFSETTO:-0500
TZNAME:EST
END:STANDARD
BEGIN:DAYLIGHT
DTSTART:20250309T020000
TZOFFSETFROM:-0500
TZOFFSETTO:-0400
TZNAME:EDT
END:DAYLIGHT
END:VTIMEZONE
BEGIN:VEVENT
UID:calendar.36358.field_fc_date.0@www.baltimoreculture.org
DTSTAMP:20260423T040522Z
ATTACH;FMTTYPE=image/jpeg:https://www.baltimoreculture.org/sites/default/fi
 les/event-image/UndertowBB_DjRedTide_0.jpg
CATEGORIES:Performance
CREATED:20240827T013117Z
DESCRIPTION:Join us at Le Mondo for *Undertow Brass Band*, a high-energy,
  big volume  brass band from Providence, RI that proves great parties nee
 d no electricity!  They will be joined by Baltimore’s *Suppai Helwa*.\n\n“
 /Thrillingly competent, with undimmable energy…an explosion of good  chee
 r./” -The New York Times
DTSTART;TZID=America/New_York:20240906T190000
DTEND;TZID=America/New_York:20240906T220000
LAST-MODIFIED:20240903T200404Z
LOCATION:Le Mondo, 406 North Howard Street, Baltimore, MD
SUMMARY:MUSIC: Undertow Brass Band with Suppai Helwa
URL:www.lemondo.org
X-GBCA-NID:36358
END:VEVENT
END:VCALENDAR
