BEGIN:VCALENDAR
VERSION:2.0
PRODID:-//Date iCal v2.14-dev//NONSGML kigkonsult.se iCalcreator 2.16.6//
METHOD:PUBLISH
X-WR-CALNAME;VALUE=TEXT:Greater Baltimore Cultural Alliance
BEGIN:VTIMEZONE
TZID:America/New_York
BEGIN:STANDARD
DTSTART:20241103T020000
TZOFFSETFROM:-0400
TZOFFSETTO:-0500
TZNAME:EST
END:STANDARD
BEGIN:DAYLIGHT
DTSTART:20250309T020000
TZOFFSETFROM:-0500
TZOFFSETTO:-0400
TZNAME:EDT
END:DAYLIGHT
END:VTIMEZONE
BEGIN:VEVENT
UID:calendar.36495.field_fc_date.0@www.baltimoreculture.org
DTSTAMP:20260423T105716Z
ATTACH;FMTTYPE=image/png:https://www.baltimoreculture.org/sites/default/fil
 es/event-image/2024%20Maryland%20Statewide%20Digital%20Equity%20Summit.png
CATEGORIES:Lectures/ Workshops,Activities,Professional Development
CREATED:20240917T020927Z
DESCRIPTION:Connect with digital inclusion leaders from Maryland and beyond
  at the 2024  Maryland Statewide Digital Equity Summit in Baltimore on Oct
 ober 15th. Join  leading experts in digital inclusion to discuss innovativ
 e strategies and  best practices for digital literacy, access, and equit
 y. Expand your network  and be a part of bringing Maryland 'Beyond the Dig
 ital Divide!” View the  summit agenda, speakers, and registration inform
 ation at  https://go.umd.edu/2024DigitalEquity [1].\n\nDate: Tuesday, Oct
 ober 15th, 2024\n\n\n[1] https://go.umd.edu/2024DigitalEquity
DTSTART;TZID=America/New_York:20241015T083000
DTEND;TZID=America/New_York:20241015T173000
LAST-MODIFIED:20240917T133138Z
LOCATION:National Federation of the Blind, 200 E Wells St, Baltimore, MD
SUMMARY:The 2024 Maryland Statewide Digital Equity Summit
URL:https://marylandersonline.umd.edu/events/2024-maryland-statewide-digita
 l-equity-summit
X-GBCA-NID:36495
END:VEVENT
END:VCALENDAR
