BEGIN:VCALENDAR
VERSION:2.0
PRODID:-//Date iCal v2.14-dev//NONSGML kigkonsult.se iCalcreator 2.16.6//
METHOD:PUBLISH
X-WR-CALNAME;VALUE=TEXT:Greater Baltimore Cultural Alliance
BEGIN:VTIMEZONE
TZID:America/New_York
BEGIN:STANDARD
DTSTART:20241103T020000
TZOFFSETFROM:-0400
TZOFFSETTO:-0500
RDATE:20251102T020000
TZNAME:EST
END:STANDARD
BEGIN:DAYLIGHT
DTSTART:20250309T020000
TZOFFSETFROM:-0500
TZOFFSETTO:-0400
TZNAME:EDT
END:DAYLIGHT
END:VTIMEZONE
BEGIN:VEVENT
UID:calendar.36558.field_fc_date.0@www.baltimoreculture.org
DTSTAMP:20260422T154453Z
ATTACH;FMTTYPE=image/jpeg:https://www.baltimoreculture.org/sites/default/fi
 les/event-image/D7Q_0918_2700_0.jpg
CATEGORIES:Activities,Outdoors
CREATED:20240925T192245Z
DESCRIPTION:McDaniel College alumni, families and friends are invited to c
 heer on the  Green Terror while participating in McDaniel’s unique tailgat
 ing tradition.  Learn more at www.mcdaniel.edu/homecoming2024 [1].\n\n\n[1
 ] http://www.mcdaniel.edu/homecoming2024
DTSTART;TZID=America/New_York:20241102T100000
DTEND;TZID=America/New_York:20241102T100000
GEO:+39.584877;-77.00179
LAST-MODIFIED:20240930T153022Z
LOCATION:Kenneth R. Gill Stadium, McDaniel College, 2 College Hill, West
 minster, MD
SUMMARY:McDaniel College Homecoming
URL:www.mcdaniel.edu/homecoming2024
X-GBCA-NID:36558
END:VEVENT
END:VCALENDAR
