BEGIN:VCALENDAR
VERSION:2.0
PRODID:-//Date iCal v2.14-dev//NONSGML kigkonsult.se iCalcreator 2.16.6//
METHOD:PUBLISH
X-WR-CALNAME;VALUE=TEXT:Greater Baltimore Cultural Alliance
BEGIN:VTIMEZONE
TZID:America/New_York
BEGIN:STANDARD
DTSTART:20241103T020000
TZOFFSETFROM:-0400
TZOFFSETTO:-0500
RDATE:20251102T020000
TZNAME:EST
END:STANDARD
BEGIN:DAYLIGHT
DTSTART:20250309T020000
TZOFFSETFROM:-0500
TZOFFSETTO:-0400
TZNAME:EDT
END:DAYLIGHT
END:VTIMEZONE
BEGIN:VEVENT
UID:calendar.36614.field_fc_date.0@www.baltimoreculture.org
DTSTAMP:20260423T221920Z
ATTACH;FMTTYPE=image/png:https://www.baltimoreculture.org/sites/default/fil
 es/event-image/Yes%20And%20Parenting-4-Instagram%20-%20no%20Photo.png
CATEGORIES:Lectures/ Workshops,Activities,Other
CREATED:20241002T225519Z
DESCRIPTION:This course teaches parents the power of improvisation and the 
 benefits of  using flexibility during stressful situations. Taught through
  the structure  of a standard improv curriculum, this parenting workshop 
 is aimed to build  parents’ abilities to think on their feet in the midst 
 of chaos, creating  positive outcomes and memories for their children.\n
 \nThis workshop is for the adults only, and is open to parents, almost-p
 arents,  and anyone who is involved with children in a family or work env
 ironment!\n\nFacilitator Bio:
DTSTART;TZID=America/New_York:20241102T120000
DTEND;TZID=America/New_York:20241102T140000
GEO:+39.311904;-76.615178
LAST-MODIFIED:20241008T120705Z
LOCATION:St. Mark's Lutheran Church, 1900 St. Paul Street, Baltimore, MD
SUMMARY:'Yes, And!' Parenting - a Parenting Workshop Using Improv!
URL:https://www.highwireimprov.com
X-GBCA-NID:36614
END:VEVENT
END:VCALENDAR
