BEGIN:VCALENDAR
VERSION:2.0
PRODID:-//Date iCal v2.14-dev//NONSGML kigkonsult.se iCalcreator 2.16.6//
METHOD:PUBLISH
X-WR-CALNAME;VALUE=TEXT:Greater Baltimore Cultural Alliance
BEGIN:VTIMEZONE
TZID:America/New_York
BEGIN:STANDARD
DTSTART:20251102T020000
TZOFFSETFROM:-0400
TZOFFSETTO:-0500
TZNAME:EST
END:STANDARD
BEGIN:DAYLIGHT
DTSTART:20250309T020000
TZOFFSETFROM:-0500
TZOFFSETTO:-0400
TZNAME:EDT
END:DAYLIGHT
END:VTIMEZONE
BEGIN:VEVENT
UID:calendar.36630.field_fc_date.0@www.baltimoreculture.org
DTSTAMP:20260424T015249Z
ATTACH;FMTTYPE=image/jpeg:https://www.baltimoreculture.org/sites/default/fi
 les/event-image/12-17-2024%2BEvan%2BDrachman-resized.jpg
CATEGORIES:Performance,Activities,History & Heritage
CREATED:20241003T185126Z
DESCRIPTION:HYBRID IN-PERSON AND ONLINE PROGRAM\n\nChampions of the Cello: 
 Beethoven and Brahms\n\nEvan Drachman, cellist and Wan-Chi Su, pianist\n
 \nPlease join us for a holiday party preceding the program from 12:30 - 1:
 30  pm!\n\nEvan Drachman, cellist, and Wan-Chi Su, pianist, will perfo
 rm Beethoven's  Seven Variations in Eb (E flat) and Brahms' Sonata in E mi
 nor. They will also  discuss the cello’s path toward instrumental equality
  through Beethoven and  Brahms. This will be an afternoon of musical maste
 rpieces with commentary and  discussion.
DTSTART;TZID=America/New_York:20241217T133000
DTEND;TZID=America/New_York:20241217T150000
LAST-MODIFIED:20241008T120701Z
LOCATION:The Women's Club of Roland Park, 4500 Roland Avenue, Baltimore,
  MD
SUMMARY:PERFORMANCE: Champions of the Cello: Beethoven and Brahms
URL:https://www.artseminargroup.org/events/champions-of-the-cello-beethoven
 -and-brahms
X-GBCA-NID:36630
END:VEVENT
END:VCALENDAR
