BEGIN:VCALENDAR
VERSION:2.0
PRODID:-//Date iCal v2.14-dev//NONSGML kigkonsult.se iCalcreator 2.16.6//
METHOD:PUBLISH
X-WR-CALNAME;VALUE=TEXT:Greater Baltimore Cultural Alliance
BEGIN:VTIMEZONE
TZID:America/New_York
BEGIN:STANDARD
DTSTART:20241103T020000
TZOFFSETFROM:-0400
TZOFFSETTO:-0500
RDATE:20251102T020000
TZNAME:EST
END:STANDARD
BEGIN:DAYLIGHT
DTSTART:20250309T020000
TZOFFSETFROM:-0500
TZOFFSETTO:-0400
TZNAME:EDT
END:DAYLIGHT
END:VTIMEZONE
BEGIN:VEVENT
UID:calendar.36647.field_fc_date.0@www.baltimoreculture.org
DTSTAMP:20260422T211747Z
ATTACH;FMTTYPE=image/jpeg:https://www.baltimoreculture.org/sites/default/fi
 les/event-image/Banner_0.JPG
CATEGORIES:Performance,Lectures/ Workshops,Activities
CREATED:20241005T012011Z
DESCRIPTION:Port Discovery’s Sensory Friendly Sundays provide Museum access
  to families  who would benefit from a sensory friendly experience and qui
 eter setting at  Port Discovery two hours before opening to the general pu
 blic. These mornings  are designed to provide you with an opportunity to e
 njoy the Port Discovery  experience in a sensory-modified setting, includ
 ing limited admission and  sound and lighting adjustments.\n\nSensory Frie
 ndly Sundays will include open-play opportunities throughout the  Museum. 
 No proof of qualification will be required. Pre-registration is  required.
DTSTART;TZID=America/New_York:20241117T090000
DTEND;TZID=America/New_York:20241117T110000
GEO:+39.288934;-76.606288
LAST-MODIFIED:20241008T120656Z
LOCATION:Port Discovery Children's Museum, 35 Market Place, Baltimore, M
 D
SUMMARY:Sensory Friendly Sunday
URL:https://cli.re/85053-sensory-friendly-sunday
X-GBCA-NID:36647
END:VEVENT
END:VCALENDAR
