BEGIN:VCALENDAR
VERSION:2.0
PRODID:-//Date iCal v2.14-dev//NONSGML kigkonsult.se iCalcreator 2.16.6//
METHOD:PUBLISH
X-WR-CALNAME;VALUE=TEXT:Greater Baltimore Cultural Alliance
BEGIN:VTIMEZONE
TZID:America/New_York
BEGIN:STANDARD
DTSTART:20241103T020000
TZOFFSETFROM:-0400
TZOFFSETTO:-0500
TZNAME:EST
END:STANDARD
BEGIN:DAYLIGHT
DTSTART:20250309T020000
TZOFFSETFROM:-0500
TZOFFSETTO:-0400
TZNAME:EDT
END:DAYLIGHT
END:VTIMEZONE
BEGIN:VEVENT
UID:calendar.36671.field_fc_date.0@www.baltimoreculture.org
DTSTAMP:20260423T022320Z
ATTACH;FMTTYPE=image/png:https://www.baltimoreculture.org/sites/default/fil
 es/event-image/Sweet%20and%20Salty%20Comedy%20Mix-2-Instagram.png
CATEGORIES:Performance,Activities,Nightlife
CREATED:20241007T170408Z
DESCRIPTION:Join Highwire Improv at the Lou Costello Room for Baltimore's b
 est improv  acts, as well as frequent regional and national touring guest
 s!\n\nThe bar is open all day, and the upstairs comedy room opens at 6:30
 pm for a  7pm showtime! Check out the 9pm show as well (and ask us about a
  special  2-for-1 deal)!\n\nThe Lineup!\n\nSalty Tomatoes is an indie impr
 ov team comprised of good friends who love to  do good improv together!\n
 \nSenior Mints are the older sibling of your favorite movie theater candy\
 , but  more importantly they are a fantastic short-form improv team!
DTSTART;TZID=America/New_York:20241019T190000
DTEND;TZID=America/New_York:20241019T210000
GEO:+39.330873;-76.633433
LAST-MODIFIED:20241008T120647Z
LOCATION:Zissimos Bar, 1023 W 36th St, Baltimore, MD
SUMMARY:Sweet and Salty Comedy Mix!
URL;TYPE=URI:https://www.baltimoreculture.org/calendar/event/36671/sweet-an
 d-salty-comedy-mix
X-GBCA-NID:36671
END:VEVENT
END:VCALENDAR
