BEGIN:VCALENDAR
VERSION:2.0
PRODID:-//Date iCal v2.14-dev//NONSGML kigkonsult.se iCalcreator 2.16.6//
METHOD:PUBLISH
X-WR-CALNAME;VALUE=TEXT:Greater Baltimore Cultural Alliance
BEGIN:VTIMEZONE
TZID:America/New_York
BEGIN:STANDARD
DTSTART:20241103T020000
TZOFFSETFROM:-0400
TZOFFSETTO:-0500
RDATE:20251102T020000
TZNAME:EST
END:STANDARD
BEGIN:DAYLIGHT
DTSTART:20250309T020000
TZOFFSETFROM:-0500
TZOFFSETTO:-0400
TZNAME:EDT
END:DAYLIGHT
END:VTIMEZONE
BEGIN:VEVENT
UID:calendar.36687.field_fc_date.0@www.baltimoreculture.org
DTSTAMP:20260423T184141Z
ATTACH;FMTTYPE=image/jpeg:https://www.baltimoreculture.org/sites/default/fi
 les/event-image/Brahms%20%26%20Dvo%C5%99%C3%A1k.jpg
CATEGORIES:Performance
CREATED:20241009T110608Z
DESCRIPTION:This November, the Maryland Symphony Orchestra unveils the lus
 h romantic  landscapes of Johannes Brahms’ Symphony No. 3 in F Major, Op.
  90, and  Antonín Dvořák’s Cello Concerto in B minor, Op. 104. Elizabeth
  Schulze  weaves the ensemble through Brahms’ masterful orchestration, wh
 ere each  note narrates a tale of passion and introspection, painting a v
 ivid musical  portrait.
DTSTART;TZID=America/New_York:20241109T193000
DTEND;TZID=America/New_York:20241109T213000
LAST-MODIFIED:20241015T140354Z
LOCATION:Maryland Theatre for the Performing Arts, 3 Park Place Suite 4, 
 Annapolis, MD
SUMMARY:Brahms & Dvořák
URL:https://marylandsymphony.my.salesforce-sites.com/ticket/#/events/a0OQn0
 00001J5zVMAS
X-GBCA-NID:36687
END:VEVENT
BEGIN:VEVENT
UID:calendar.36687.field_fc_date.0@www.baltimoreculture.org
DTSTAMP:20260423T184141Z
ATTACH;FMTTYPE=image/jpeg:https://www.baltimoreculture.org/sites/default/fi
 les/event-image/Brahms%20%26%20Dvo%C5%99%C3%A1k.jpg
CATEGORIES:Performance
CREATED:20241009T110608Z
DESCRIPTION:This November, the Maryland Symphony Orchestra unveils the lus
 h romantic  landscapes of Johannes Brahms’ Symphony No. 3 in F Major, Op.
  90, and  Antonín Dvořák’s Cello Concerto in B minor, Op. 104. Elizabeth
  Schulze  weaves the ensemble through Brahms’ masterful orchestration, wh
 ere each  note narrates a tale of passion and introspection, painting a v
 ivid musical  portrait.
DTSTART;TZID=America/New_York:20241110T150000
DTEND;TZID=America/New_York:20241110T170000
LAST-MODIFIED:20241015T140354Z
LOCATION:Maryland Theatre for the Performing Arts, 3 Park Place Suite 4, 
 Annapolis, MD
SUMMARY:Brahms & Dvořák
URL:https://marylandsymphony.my.salesforce-sites.com/ticket/#/events/a0OQn0
 00001J5zVMAS
X-GBCA-NID:36687
END:VEVENT
END:VCALENDAR
