BEGIN:VCALENDAR
VERSION:2.0
PRODID:-//Date iCal v2.14-dev//NONSGML kigkonsult.se iCalcreator 2.16.6//
METHOD:PUBLISH
X-WR-CALNAME;VALUE=TEXT:Greater Baltimore Cultural Alliance
BEGIN:VTIMEZONE
TZID:America/New_York
BEGIN:STANDARD
DTSTART:20241103T020000
TZOFFSETFROM:-0400
TZOFFSETTO:-0500
RDATE:20251102T020000
TZNAME:EST
END:STANDARD
BEGIN:DAYLIGHT
DTSTART:20250309T020000
TZOFFSETFROM:-0500
TZOFFSETTO:-0400
TZNAME:EDT
END:DAYLIGHT
END:VTIMEZONE
BEGIN:VEVENT
UID:calendar.36700.field_fc_date.0@www.baltimoreculture.org
DTSTAMP:20260423T120415Z
ATTACH;FMTTYPE=image/jpeg:https://www.baltimoreculture.org/sites/default/fi
 les/event-image/IMG_0370.jpeg
CATEGORIES:Exhibition,Nightlife
CREATED:20241011T191714Z
DESCRIPTION:Deck the walls by giving the gift of art this holiday season! M
 aryland Art  Place [1] (MAP) is excited to host its 12th annual *UNDER $50
 0* and *FIRST  EVER UNDER $2500* affordable art sale where artwork is sold
  on a  first-come-first-served basis right off our gallery walls! Newly re
 branded as  *UNDER $2500* - this event promotes the purchase of artwork by
  artists in the  Maryland region. Guests can expect to mingle with other a
 rtists, collectors,  patrons, and general art enthusiasts at the event.
 \n\n\n[1] https://www.mdartplace.org/
DTSTART;TZID=America/New_York:20241122T180000
DTEND;TZID=America/New_York:20241122T220000
GEO:+39.293155;-76.618815
LAST-MODIFIED:20241015T140352Z
LOCATION:Maryland Art Place, 218 W Saratoga St, Baltimore, MD
SUMMARY:UNDER $2500
URL:https://e.givesmart.com/events/F9z/
X-GBCA-NID:36700
END:VEVENT
END:VCALENDAR
