BEGIN:VCALENDAR
VERSION:2.0
PRODID:-//Date iCal v2.14-dev//NONSGML kigkonsult.se iCalcreator 2.16.6//
METHOD:PUBLISH
X-WR-CALNAME;VALUE=TEXT:Greater Baltimore Cultural Alliance
BEGIN:VTIMEZONE
TZID:America/New_York
BEGIN:STANDARD
DTSTART:20251102T020000
TZOFFSETFROM:-0400
TZOFFSETTO:-0500
TZNAME:EST
END:STANDARD
BEGIN:DAYLIGHT
DTSTART:20250309T020000
TZOFFSETFROM:-0500
TZOFFSETTO:-0400
TZNAME:EDT
END:DAYLIGHT
END:VTIMEZONE
BEGIN:VEVENT
UID:calendar.36793.field_fc_date.0@www.baltimoreculture.org
DTSTAMP:20260422T084053Z
ATTACH;FMTTYPE=image/jpeg:https://www.baltimoreculture.org/sites/default/fi
 les/event-image/86923.jpg
CATEGORIES:Exhibition
CREATED:20241028T211301Z
DESCRIPTION:Join us for a grown-up friend-raiser (21+) in support of Port D
 iscovery’s  educational and access programs. Hops & Vines brings together 
 the best  breweries and wineries from around the region for an evening of 
 premier  tastings. Take a tour of beverage samples along a backdrop of a f
 un  night-at-the-museum vibe, complete with music and mingling.\n\nPricin
 g $65 per person in advance $75 per person at the door\n\nFor more informa
 tion please visit www.PortDiscovery.org/hopsvines [1].\n\n\n[1] http://www
 .PortDiscovery.org/hopsvines
DTSTART;TZID=America/New_York:20250201T190000
DTEND;TZID=America/New_York:20250201T220000
GEO:+39.288934;-76.606288
LAST-MODIFIED:20241030T154133Z
LOCATION:Port Discovery Children's Museum, 35 Market Place, Baltimore, M
 D
SUMMARY:Hops & Vines
URL:https://cli.re/86923-hops--vines
X-GBCA-NID:36793
END:VEVENT
END:VCALENDAR
