BEGIN:VCALENDAR
VERSION:2.0
PRODID:-//Date iCal v2.14-dev//NONSGML kigkonsult.se iCalcreator 2.16.6//
METHOD:PUBLISH
X-WR-CALNAME;VALUE=TEXT:Greater Baltimore Cultural Alliance
BEGIN:VTIMEZONE
TZID:America/New_York
BEGIN:STANDARD
DTSTART:20241103T020000
TZOFFSETFROM:-0400
TZOFFSETTO:-0500
RDATE:20251102T020000
TZNAME:EST
END:STANDARD
BEGIN:DAYLIGHT
DTSTART:20250309T020000
TZOFFSETFROM:-0500
TZOFFSETTO:-0400
TZNAME:EDT
END:DAYLIGHT
END:VTIMEZONE
BEGIN:VEVENT
UID:calendar.36822.field_fc_date.0@www.baltimoreculture.org
DTSTAMP:20260422T102119Z
ATTACH;FMTTYPE=image/png:https://www.baltimoreculture.org/sites/default/fil
 es/Baker_GBCA_Newsletter.png
CATEGORIES:Exhibition,Baker Artist,Performance,Lectures/ Workshops,Acti
 vities,Professional Development,GBCA Events
CREATED:20241104T145336Z
DESCRIPTION:/Greater Baltimore Cultural Alliance presents/ *Baker Artist Po
 rtfolios: Off The Web* At The Peale November 7, 2024 - January 19, 2025
 \n\n*Opening Reception: Friday, November 15, 4pm - 8pm* (rsvp here [1])
 \n\nOver 200 Baltimore-area artists bring some of the region's newest art 
 to  America's oldest museum building.\n\n\n[1] https://www.tickettailor.co
 m/events/thepeale/1451331
DTSTART;TZID=America/New_York:20241107T160000
DTEND;TZID=America/New_York:20250119T160000
GEO:+39.290869;-76.610639
LAST-MODIFIED:20241114T193225Z
LOCATION:The Peale Museum, 225 North Holliday Street, Baltimore, MD
SUMMARY:Baker Artist Portfolios: Off The Web
URL;TYPE=URI:https://www.baltimoreculture.org/calendar/event/36822/baker-ar
 tist-portfolios-web
X-GBCA-NID:36822
END:VEVENT
END:VCALENDAR
