BEGIN:VCALENDAR
VERSION:2.0
PRODID:-//Date iCal v2.14-dev//NONSGML kigkonsult.se iCalcreator 2.16.6//
METHOD:PUBLISH
X-WR-CALNAME;VALUE=TEXT:Greater Baltimore Cultural Alliance
BEGIN:VTIMEZONE
TZID:America/New_York
BEGIN:STANDARD
DTSTART:20251102T020000
TZOFFSETFROM:-0400
TZOFFSETTO:-0500
TZNAME:EST
END:STANDARD
BEGIN:DAYLIGHT
DTSTART:20250309T020000
TZOFFSETFROM:-0500
TZOFFSETTO:-0400
TZNAME:EDT
END:DAYLIGHT
END:VTIMEZONE
BEGIN:VEVENT
UID:calendar.37019.field_fc_date.0@www.baltimoreculture.org
DTSTAMP:20260423T083514Z
ATTACH;FMTTYPE=image/jpeg:https://www.baltimoreculture.org/sites/default/fi
 les/event-image/Helicon%27s%20Winter%20Solstice%202023%20Full%20Band%20on%
 20Stage.jpg
CATEGORIES:Performance
CREATED:20241206T045240Z
DESCRIPTION:HELICON AND FRIENDS RETURN TO CELEBATE THE SEASON WITH THE 39th
  ANNUAL WINTER  SOLSTICE CONCERT\n\nHelicon’s 39th Winter Solstice Concert
 s with Helicon, members of Charm City  Junction, The Ken & Brad Kolodner
  Quartet, Scottish National Fiddle Champion  Elke Baker, The six-time No
 rth American Irish Step dance Champion Jonathon  Srour, step-dance champi
 on Claire Shirey, vocalist Evangeline Norman\n\nYOUTUBE: https://www.yout
 ube.com/watch?v=vFjEioecQms [1]\n\n\n[1] https://www.youtube.com/watch?v=v
 FjEioecQms
DTSTART;TZID=America/New_York:20241221T153000
DTEND;TZID=America/New_York:20241221T174500
GEO:+39.409959;-76.595686
LAST-MODIFIED:20241209T222051Z
LOCATION:Kraushaar Auditorium at Goucher College, 1021 Dulaney Valley Road
 , Towson, MD
SUMMARY:Helicon’s 39th Annual Winter Solstice Concerts
URL:https://www.wintersolsticeconcert.com/
X-GBCA-NID:37019
END:VEVENT
BEGIN:VEVENT
UID:calendar.37019.field_fc_date.0@www.baltimoreculture.org
DTSTAMP:20260423T083514Z
ATTACH;FMTTYPE=image/jpeg:https://www.baltimoreculture.org/sites/default/fi
 les/event-image/Helicon%27s%20Winter%20Solstice%202023%20Full%20Band%20on%
 20Stage.jpg
CATEGORIES:Performance
CREATED:20241206T045240Z
DESCRIPTION:HELICON AND FRIENDS RETURN TO CELEBATE THE SEASON WITH THE 39th
  ANNUAL WINTER  SOLSTICE CONCERT\n\nHelicon’s 39th Winter Solstice Concert
 s with Helicon, members of Charm City  Junction, The Ken & Brad Kolodner
  Quartet, Scottish National Fiddle Champion  Elke Baker, The six-time No
 rth American Irish Step dance Champion Jonathon  Srour, step-dance champi
 on Claire Shirey, vocalist Evangeline Norman\n\nYOUTUBE: https://www.yout
 ube.com/watch?v=vFjEioecQms [1]\n\n\n[1] https://www.youtube.com/watch?v=v
 FjEioecQms
DTSTART;TZID=America/New_York:20241221T193000
DTEND;TZID=America/New_York:20241221T214500
GEO:+39.409959;-76.595686
LAST-MODIFIED:20241209T222051Z
LOCATION:Kraushaar Auditorium at Goucher College, 1021 Dulaney Valley Road
 , Towson, MD
SUMMARY:Helicon’s 39th Annual Winter Solstice Concerts
URL:https://www.wintersolsticeconcert.com/
X-GBCA-NID:37019
END:VEVENT
END:VCALENDAR
