BEGIN:VCALENDAR
VERSION:2.0
PRODID:-//Date iCal v2.14-dev//NONSGML kigkonsult.se iCalcreator 2.16.6//
METHOD:PUBLISH
X-WR-CALNAME;VALUE=TEXT:Greater Baltimore Cultural Alliance
BEGIN:VTIMEZONE
TZID:America/New_York
BEGIN:STANDARD
DTSTART:20251102T020000
TZOFFSETFROM:-0400
TZOFFSETTO:-0500
TZNAME:EST
END:STANDARD
BEGIN:DAYLIGHT
DTSTART:20250309T020000
TZOFFSETFROM:-0500
TZOFFSETTO:-0400
TZNAME:EDT
END:DAYLIGHT
END:VTIMEZONE
BEGIN:VEVENT
UID:calendar.37201.field_fc_date.0@www.baltimoreculture.org
DTSTAMP:20260423T144030Z
ATTACH;FMTTYPE=image/jpeg:https://www.baltimoreculture.org/sites/default/fi
 les/event-image/down.jpg
CATEGORIES:Other
CREATED:20250128T003306Z
DESCRIPTION:Mark your calendars for Port Discovery’s new homeschool offerin
 gs! Join us for a day of excitement, exploration, and learning, all by 
 the way of  play! Embark on a self-guided journey throughout the three flo
 ors of fun Port  Discovery has to offer and tap into special workshops off
 ered just for our  homeschoolers on these special days.\n\n*Homeschool Day
 s and workshops are not drop-off programs. Children must be  accompanied b
 y an adult throughout the museum and within special workshops.
DTSTART;TZID=America/New_York:20250207T103000
DTEND;TZID=America/New_York:20250207T113000
GEO:+39.288934;-76.606288
LAST-MODIFIED:20250128T174328Z
LOCATION:Port Discovery Children's Museum, 35 Market Place, Baltimore, M
 D
SUMMARY:Homeschool Days - Science in Our World: States of Matters
URL:https://eventvesta.com/events/94492/t/tickets
X-GBCA-NID:37201
END:VEVENT
END:VCALENDAR
