BEGIN:VCALENDAR
VERSION:2.0
PRODID:-//Date iCal v2.14-dev//NONSGML kigkonsult.se iCalcreator 2.16.6//
METHOD:PUBLISH
X-WR-CALNAME;VALUE=TEXT:Greater Baltimore Cultural Alliance
BEGIN:VTIMEZONE
TZID:America/New_York
BEGIN:STANDARD
DTSTART:20251102T020000
TZOFFSETFROM:-0400
TZOFFSETTO:-0500
TZNAME:EST
END:STANDARD
BEGIN:DAYLIGHT
DTSTART:20260308T020000
TZOFFSETFROM:-0500
TZOFFSETTO:-0400
TZNAME:EDT
END:DAYLIGHT
END:VTIMEZONE
BEGIN:VEVENT
UID:calendar.37584.field_fc_date.0@www.baltimoreculture.org
DTSTAMP:20260423T203045Z
ATTACH;FMTTYPE=image/png:https://www.baltimoreculture.org/sites/default/fil
 es/BMA%20Exhibition%20Square-3%20%281%29.png
CATEGORIES:Exhibition,Baker Artist
CREATED:20250318T224512Z
DESCRIPTION:April 27, 2025 — July 27, 2025\n\nOverview\n\nThe 2025 Baker 
 Artist Awards exhibition at the BMA showcases the work of five  artists: 2
 019 awardee Selin Balci [1], 2023 awardees Oletha DeVane [2] and  Jordan 
 Tierney [3], and 2024 awardees Stephen Towns [4] and Kelley Bell [5].\n\n
 \n[1] https://bakerartist.org/portfolios/selinbalci [2] https://bakerartis
 t.org/portfolios/olethadevane [3] https://bakerartist.org/portfolios/m-jor
 dantierney [4] https://bakerartist.org/portfolios/stephentowns [5] https:/
 /bakerartist.org/portfolios/kelleybellbaker
DTSTART;TZID=America/New_York:20250427T100000
DTEND;TZID=America/New_York:20250427T170000
GEO:+39.325755;-76.61944
LAST-MODIFIED:20251231T001256Z
LOCATION:Baltimore Museum of Art, 10 Art Museum Drive, Baltimore, MD
RRULE:FREQ=WEEKLY;UNTIL=20250729T075959Z;INTERVAL=1;BYDAY=SU,WE,FR,SA;WKST=
 SU
SUMMARY:Baker Artist Awards Exhibition at BMA
URL:https://artbma.org/exhibition/baker-artist-awards-2/
X-GBCA-NID:37584
END:VEVENT
END:VCALENDAR
