BEGIN:VCALENDAR
VERSION:2.0
PRODID:-//Date iCal v2.14-dev//NONSGML kigkonsult.se iCalcreator 2.16.6//
METHOD:PUBLISH
X-WR-CALNAME;VALUE=TEXT:Greater Baltimore Cultural Alliance
BEGIN:VTIMEZONE
TZID:America/New_York
BEGIN:STANDARD
DTSTART:20261101T020000
TZOFFSETFROM:-0400
TZOFFSETTO:-0500
TZNAME:EST
END:STANDARD
BEGIN:DAYLIGHT
DTSTART:20260308T020000
TZOFFSETFROM:-0500
TZOFFSETTO:-0400
TZNAME:EDT
END:DAYLIGHT
END:VTIMEZONE
BEGIN:VEVENT
UID:calendar.38337.field_fc_date.0@www.baltimoreculture.org
DTSTAMP:20260423T133744Z
ATTACH;FMTTYPE=image/png:https://www.baltimoreculture.org/sites/default/fil
 es/event-image/2026%20MLK%20Unity%20Parae%20Flyer.png
CATEGORIES:History & Heritage,Outdoors
CREATED:20250728T025916Z
DESCRIPTION:The 2026 MLK Unity Parade will be held on January 19, 2026 in 
 Downtown  originating on San Jacinto Street & Pease Street beginning @ 10A
 M. The  parade's theme is ' Embracing the Oneness of Humanity ' featuring 
 more than  300 culturally diverse performance groups from across the natio
 n and from  around the world. To register for the parade or for more infor
 mation visit us  @ www.mlkgrandeparade.org [1]\n\n\n[1] http://www.mlkgran
 deparade.org
DTSTART;TZID=America/New_York:20260119T100000
DTEND;TZID=America/New_York:20260119T130000
LAST-MODIFIED:20250729T121743Z
LOCATION:2026 MLK Unity Parade, Downtown Houston, Houston, TX
SUMMARY:2026 MLK Unity Parade
URL:http://www.mlkgrandeparade.org
X-GBCA-NID:38337
END:VEVENT
END:VCALENDAR
