BEGIN:VCALENDAR
VERSION:2.0
PRODID:-//Date iCal v2.14-dev//NONSGML kigkonsult.se iCalcreator 2.16.6//
METHOD:PUBLISH
X-WR-CALNAME;VALUE=TEXT:Greater Baltimore Cultural Alliance
BEGIN:VTIMEZONE
TZID:America/New_York
BEGIN:STANDARD
DTSTART:20261101T020000
TZOFFSETFROM:-0400
TZOFFSETTO:-0500
TZNAME:EST
END:STANDARD
BEGIN:DAYLIGHT
DTSTART:20260308T020000
TZOFFSETFROM:-0500
TZOFFSETTO:-0400
TZNAME:EDT
END:DAYLIGHT
END:VTIMEZONE
BEGIN:VEVENT
UID:calendar.38534.field_fc_date.0@www.baltimoreculture.org
DTSTAMP:20260423T022310Z
ATTACH;FMTTYPE=image/jpeg:https://www.baltimoreculture.org/sites/default/fi
 les/u888/emanuel%20ax-min.jpg
CATEGORIES:Performance
CREATED:20250825T191627Z
DESCRIPTION:The consummate pianist Emanuel Ax brings a lifetime of authorit
 y to every  musical setting—whether as a soloist with the world’s leading 
 orchestras,  chamber musician, Grammy-winning recording artist, or reci
 talist. With  “bountiful imagination, delicacy when called for and thunde
 ring power”  (/The New York Times/) he returns to Shriver Hall performing 
 essential  repertoire including Schumann’s powerful Fantasie in C major.
DTSTART;TZID=America/New_York:20260111T173000
DTEND;TZID=America/New_York:20260111T200000
GEO:+39.324928;-76.623354
LAST-MODIFIED:20250902T153701Z
LOCATION:Shriver Hall,  JHU Homewood Campus, 3400 N. Charles St., Johns 
 Hopkins University, Baltimore, MD
SUMMARY:Emanuel Ax, piano at Shriver Hall Concert Series
URL:https://www.shriverconcerts.org/ax
X-GBCA-NID:38534
END:VEVENT
END:VCALENDAR
