BEGIN:VCALENDAR
VERSION:2.0
PRODID:-//Date iCal v2.14-dev//NONSGML kigkonsult.se iCalcreator 2.16.6//
METHOD:PUBLISH
X-WR-CALNAME;VALUE=TEXT:Greater Baltimore Cultural Alliance
BEGIN:VTIMEZONE
TZID:America/New_York
BEGIN:STANDARD
DTSTART:20261101T020000
TZOFFSETFROM:-0400
TZOFFSETTO:-0500
TZNAME:EST
END:STANDARD
BEGIN:DAYLIGHT
DTSTART:20260308T020000
TZOFFSETFROM:-0500
TZOFFSETTO:-0400
TZNAME:EDT
END:DAYLIGHT
END:VTIMEZONE
BEGIN:VEVENT
UID:calendar.38535.field_fc_date.0@www.baltimoreculture.org
DTSTAMP:20260422T134504Z
ATTACH;FMTTYPE=image/jpeg:https://www.baltimoreculture.org/sites/default/fi
 les/u888/manzanares-salguero.JPG
CATEGORIES:Performance
CREATED:20250825T192047Z
DESCRIPTION:The leading classical musicians of tomorrow are training at the
  Peabody  Institute today. The extraordinary young artist who wins the con
 servatory’s  Yale Gordon Concerto Competition this year will preview class
 ical music’s  bright future in an intimate recital at the Baltimore Museum
  of Art.\n\nDavid Manzanares-Salguero will be featured as part of our free
  2025-2026  Discovery Series. Tickets for the Discovery Series are availab
 le now!
DTSTART;TZID=America/New_York:20260131T150000
DTEND;TZID=America/New_York:20260131T170000
GEO:+39.325755;-76.61944
LAST-MODIFIED:20250902T153622Z
LOCATION:Baltimore Museum of Art Meyerhoff Auditorium, 10 Art Museum Drive
 , Baltimore, MD
SUMMARY:David Manzanares-Salguero, guitar with Shriver Hall Concert Series
URL:https://www.shriverconcerts.org/YaleGordon
X-GBCA-NID:38535
END:VEVENT
END:VCALENDAR
