BEGIN:VCALENDAR
VERSION:2.0
PRODID:-//Date iCal v2.14-dev//NONSGML kigkonsult.se iCalcreator 2.16.6//
METHOD:PUBLISH
X-WR-CALNAME;VALUE=TEXT:Greater Baltimore Cultural Alliance
BEGIN:VTIMEZONE
TZID:America/New_York
BEGIN:STANDARD
DTSTART:20261101T020000
TZOFFSETFROM:-0400
TZOFFSETTO:-0500
TZNAME:EST
END:STANDARD
BEGIN:DAYLIGHT
DTSTART:20260308T020000
TZOFFSETFROM:-0500
TZOFFSETTO:-0400
TZNAME:EDT
END:DAYLIGHT
END:VTIMEZONE
BEGIN:VEVENT
UID:calendar.38539.field_fc_date.0@www.baltimoreculture.org
DTSTAMP:20260422T133722Z
ATTACH;FMTTYPE=image/jpeg:https://www.baltimoreculture.org/sites/default/fi
 les/u888/jeneba%20kanneh-mason.jpg
CATEGORIES:Performance
CREATED:20250825T192944Z
DESCRIPTION:Twenty-one-year-old standout pianist Jeneba Kanneh-Mason — the 
 third  virtuoso of the Kanneh-Mason clan — has captivated audiences at the
  BBC  Proms, Academy of St Martin in the Fields, and London’s Wigmore Ha
 ll,  performing “straight from the heart, with care, sparkle, and  sel
 f-possession” (/BBC Music Magazine/). Her wide-ranging recital program  re
 flects her curiosity, featuring works by composers showcased on her Sprin
 g  2025 debut solo album for Sony Classical.
DTSTART;TZID=America/New_York:20260214T150000
DTEND;TZID=America/New_York:20260214T170000
GEO:+39.325755;-76.61944
LAST-MODIFIED:20250902T153332Z
LOCATION:Baltimore Museum of Art Meyerhoff Auditorium, 10 Art Museum Drive
 , Baltimore, MD
SUMMARY:Jeneba Kanneh-Mason, piano with Shriver Hall Concert Series
URL:https://www.shriverconcerts.org/jeneba
X-GBCA-NID:38539
END:VEVENT
END:VCALENDAR
