BEGIN:VCALENDAR
VERSION:2.0
PRODID:-//Date iCal v2.14-dev//NONSGML kigkonsult.se iCalcreator 2.16.6//
METHOD:PUBLISH
X-WR-CALNAME;VALUE=TEXT:Greater Baltimore Cultural Alliance
BEGIN:VTIMEZONE
TZID:America/New_York
BEGIN:STANDARD
DTSTART:20251102T020000
TZOFFSETFROM:-0400
TZOFFSETTO:-0500
TZNAME:EST
END:STANDARD
BEGIN:DAYLIGHT
DTSTART:20260308T020000
TZOFFSETFROM:-0500
TZOFFSETTO:-0400
TZNAME:EDT
END:DAYLIGHT
END:VTIMEZONE
BEGIN:VEVENT
UID:calendar.38551.field_fc_date.0@www.baltimoreculture.org
DTSTAMP:20260423T084705Z
ATTACH;FMTTYPE=image/png:https://www.baltimoreculture.org/sites/default/fil
 es/event-image/ASG_10.21.2025.png
CATEGORIES:Lectures/ Workshops
CREATED:20250826T161954Z
DESCRIPTION:*/Let/**/’/**/s Get in Touch: Thinking about Tactility in 20th 
 Century  American Art at the Baltimore Museum of Art/* with Virginia Ander
 son, Curator  of American Art and Department Head of American Painting & 
 Sculpture and  Decorative Arts
DTSTART;TZID=America/New_York:20251021T133000
DTEND;TZID=America/New_York:20251021T150000
LAST-MODIFIED:20250902T153329Z
LOCATION:The Woman's Club of Roland Park, 4500 Roland Avenue, Baltimore,
  MD
SUMMARY:Let’s Get in Touch: Thinking about Tactility in 20th Century Americ
 an Art  at the Baltimore Museum of Art
URL:https://www.artseminargroup.org/events/lets-get-in-touch
X-GBCA-NID:38551
END:VEVENT
END:VCALENDAR
