BEGIN:VCALENDAR
VERSION:2.0
PRODID:-//Date iCal v2.14-dev//NONSGML kigkonsult.se iCalcreator 2.16.6//
METHOD:PUBLISH
X-WR-CALNAME;VALUE=TEXT:Greater Baltimore Cultural Alliance
BEGIN:VTIMEZONE
TZID:America/New_York
BEGIN:STANDARD
DTSTART:20251102T020000
TZOFFSETFROM:-0400
TZOFFSETTO:-0500
TZNAME:EST
END:STANDARD
BEGIN:DAYLIGHT
DTSTART:20260308T020000
TZOFFSETFROM:-0500
TZOFFSETTO:-0400
TZNAME:EDT
END:DAYLIGHT
END:VTIMEZONE
BEGIN:VEVENT
UID:calendar.38663.field_fc_date.0@www.baltimoreculture.org
DTSTAMP:20260423T102159Z
ATTACH;FMTTYPE=image/jpeg:https://www.baltimoreculture.org/sites/default/fi
 les/event-image/20251021_MUSIC_StudentComposers.jpg
CATEGORIES:Lectures/ Workshops
CREATED:20250903T164415Z
DESCRIPTION:TU composition students have written pieces for Whistling Hens\
 , a duo  comprised of TU clarinet professor Natalie Groom and soprano Jenn
 ifer  Piazza-Pick. Whistling Hens will perform the student works and provi
 de  feedback from the performer perspective. Guest composer Sonia Morales-
 Matos  will provide feedback from the composer perspective.
DTSTART;TZID=America/New_York:20251021T180000
DTEND;TZID=America/New_York:20251021T200000
GEO:+39.390922;-76.612522
LAST-MODIFIED:20250908T011518Z
LOCATION:Towson University Center For The Arts, 1 Fine Arts Drive, towson
 , MD
SUMMARY:Student Composer Works Workshop
URL:https://tickets.tuboxoffice.com/eventperformances.asp?evt=271
X-GBCA-NID:38663
END:VEVENT
END:VCALENDAR
