BEGIN:VCALENDAR
VERSION:2.0
PRODID:-//Date iCal v2.14-dev//NONSGML kigkonsult.se iCalcreator 2.16.6//
METHOD:PUBLISH
X-WR-CALNAME;VALUE=TEXT:Greater Baltimore Cultural Alliance
BEGIN:VTIMEZONE
TZID:America/New_York
BEGIN:STANDARD
DTSTART:20251102T020000
TZOFFSETFROM:-0400
TZOFFSETTO:-0500
TZNAME:EST
END:STANDARD
BEGIN:DAYLIGHT
DTSTART:20260308T020000
TZOFFSETFROM:-0500
TZOFFSETTO:-0400
TZNAME:EDT
END:DAYLIGHT
END:VTIMEZONE
BEGIN:VEVENT
UID:calendar.38664.field_fc_date.0@www.baltimoreculture.org
DTSTAMP:20260423T151336Z
ATTACH;FMTTYPE=image/jpeg:https://www.baltimoreculture.org/sites/default/fi
 les/event-image/2025_Music_Sonia_MoralesMatos_sq_0.jpg
CATEGORIES:Lectures/ Workshops
CREATED:20250903T164938Z
DESCRIPTION:Sonia Morales-Matos, featured guest composer, joins the TU Co
 mposition Studio  for a masterclass. Sonia Ivette Morales-Matos is a Puert
 o Rican composer, performer, and  educator who belongs to a family of di
 stinguished musicians. Her compositions  explore a wide variety of styles 
 and genres such as chamber music, the  concerto, choral music, Latin Ja
 zz, pop, sacred and/or contemporary  Christian, and Latin or Tropical m
 usic.
DTSTART;TZID=America/New_York:20251022T140000
DTEND;TZID=America/New_York:20251022T170000
GEO:+39.390922;-76.612522
LAST-MODIFIED:20250908T011518Z
LOCATION:Towson University Center For The Arts, 1 Fine Arts Drive, towson
 , MD
SUMMARY:Guest Artist Masterclass with Sonia Morales-Matos
URL:https://tickets.tuboxoffice.com/eventperformances.asp?evt=271
X-GBCA-NID:38664
END:VEVENT
END:VCALENDAR
