BEGIN:VCALENDAR
VERSION:2.0
PRODID:-//Date iCal v2.14-dev//NONSGML kigkonsult.se iCalcreator 2.16.6//
METHOD:PUBLISH
X-WR-CALNAME;VALUE=TEXT:Greater Baltimore Cultural Alliance
BEGIN:VTIMEZONE
TZID:America/New_York
BEGIN:STANDARD
DTSTART:20251102T020000
TZOFFSETFROM:-0400
TZOFFSETTO:-0500
TZNAME:EST
END:STANDARD
BEGIN:DAYLIGHT
DTSTART:20260308T020000
TZOFFSETFROM:-0500
TZOFFSETTO:-0400
TZNAME:EDT
END:DAYLIGHT
END:VTIMEZONE
BEGIN:VEVENT
UID:calendar.38746.field_fc_date.0@www.baltimoreculture.org
DTSTAMP:20260423T164925Z
ATTACH;FMTTYPE=image/png:https://www.baltimoreculture.org/sites/default/fil
 es/event-image/PetritMC.png
CATEGORIES:Lectures/ Workshops
CREATED:20250913T004605Z
DESCRIPTION:**Petrit Ceku **will give a master class on **Friday, October 
 24, from 1:00  PM until 4:00 PM (GMT-4)*. *The class will take place at *
 Towson University  Center for the Arts* in front of a live audience AND wi
 ll be streamed live to  registered users. Performers are students from Tow
 son University. The time is  local to Baltimore, MD, USA
DTSTART;TZID=America/New_York:20251024T130000
DTEND;TZID=America/New_York:20251024T160000
GEO:+39.297183;-76.615203
LAST-MODIFIED:20250916T150327Z
LOCATION:Centre Street Performance Studio, 1 East Mount Vernon Place, Bal
 timore, MD
SUMMARY:Petrit Ceku Masterclass
URL:https://www.bcgs.org/event/petrit-ceku-online-class/
X-GBCA-NID:38746
END:VEVENT
END:VCALENDAR
