BEGIN:VCALENDAR
VERSION:2.0
PRODID:-//Date iCal v2.14-dev//NONSGML kigkonsult.se iCalcreator 2.16.6//
METHOD:PUBLISH
X-WR-CALNAME;VALUE=TEXT:Greater Baltimore Cultural Alliance
BEGIN:VTIMEZONE
TZID:America/New_York
BEGIN:STANDARD
DTSTART:20261101T020000
TZOFFSETFROM:-0400
TZOFFSETTO:-0500
TZNAME:EST
END:STANDARD
BEGIN:DAYLIGHT
DTSTART:20270314T020000
TZOFFSETFROM:-0500
TZOFFSETTO:-0400
TZNAME:EDT
END:DAYLIGHT
END:VTIMEZONE
BEGIN:VEVENT
UID:calendar.38750.field_fc_date.0@www.baltimoreculture.org
DTSTAMP:20260423T120023Z
ATTACH;FMTTYPE=image/png:https://www.baltimoreculture.org/sites/default/fil
 es/event-image/GBMC.png
CATEGORIES:Lectures/ Workshops
CREATED:20250913T005718Z
DESCRIPTION:**Giampaolo Bandini **will give a master class on **Saturday, 
 April 18, from  1:00 PM until 4:00 PM (GMT-4)*. *The class will take plac
 e in front of a live  audience AND will be streamed live to registered use
 rs. Place is TBC and the  time is local to Baltimore, MD, USA\n\n*——> Yo
 u need to register in advance by clicking HERE [1]. Limited links  are ava
 ilable <——*\n\n\n[1] https://us06web.zoom.us/meeting/register/YGs1x9a_S9-V
 0gJzaTtGhA
DTSTART;TZID=America/New_York:20260418T130000
DTEND;TZID=America/New_York:20260418T160000
LAST-MODIFIED:20250916T150327Z
LOCATION:Virtual Event!, This event takes place online., Participate from
  Anywhere you are!, MD
SUMMARY:Giampaolo Bandini Masterclass
URL:https://www.bcgs.org/event/giampaolo-bandini-master-class-1/
X-GBCA-NID:38750
END:VEVENT
END:VCALENDAR
