BEGIN:VCALENDAR
VERSION:2.0
PRODID:-//Date iCal v2.14-dev//NONSGML kigkonsult.se iCalcreator 2.16.6//
METHOD:PUBLISH
X-WR-CALNAME;VALUE=TEXT:Greater Baltimore Cultural Alliance
BEGIN:VTIMEZONE
TZID:America/New_York
BEGIN:STANDARD
DTSTART:20251102T020000
TZOFFSETFROM:-0400
TZOFFSETTO:-0500
TZNAME:EST
END:STANDARD
BEGIN:DAYLIGHT
DTSTART:20260308T020000
TZOFFSETFROM:-0500
TZOFFSETTO:-0400
TZNAME:EDT
END:DAYLIGHT
END:VTIMEZONE
BEGIN:VEVENT
UID:calendar.38764.field_fc_date.0@www.baltimoreculture.org
DTSTAMP:20260423T165005Z
ATTACH;FMTTYPE=image/jpeg:https://www.baltimoreculture.org/sites/default/fi
 les/event-image/300x250.jpg
CATEGORIES:Lectures/ Workshops
CREATED:20250915T212226Z
DESCRIPTION:Award-winning author and journalist *Dara Horn* will presen*t*\
 , “In the  Haunted Present: Dara Horn’s Dream for Living Jews.”\n\nHorn – 
 who has addressed audiences in hundreds of venues throughout North  Americ
 a, Israel and Australia – will discuss Jewish life in America post  Oct. 
 7, 2023: particularly the rise of antisemitism. The talk will tie in  wit
 h her book: /People Love Dead Jews: Reports from a Haunted Present/.
DTSTART;TZID=America/New_York:20251021T190000
DTEND;TZID=America/New_York:20251021T203000
LAST-MODIFIED:20250916T150322Z
LOCATION:Loyola University Maryland McGuire Hall, 4501 North Charles St.,
  Andrew White Student Center, Baltimore, MD
SUMMARY:2025 Jerome S. Cardin Memorial Lecture
URL:www.loyola.edu/events/cardin-lecture
X-GBCA-NID:38764
END:VEVENT
END:VCALENDAR
