BEGIN:VCALENDAR
VERSION:2.0
PRODID:-//Date iCal v2.14-dev//NONSGML kigkonsult.se iCalcreator 2.16.6//
METHOD:PUBLISH
X-WR-CALNAME;VALUE=TEXT:Greater Baltimore Cultural Alliance
BEGIN:VTIMEZONE
TZID:America/New_York
BEGIN:STANDARD
DTSTART:20251102T020000
TZOFFSETFROM:-0400
TZOFFSETTO:-0500
TZNAME:EST
END:STANDARD
BEGIN:DAYLIGHT
DTSTART:20260308T020000
TZOFFSETFROM:-0500
TZOFFSETTO:-0400
TZNAME:EDT
END:DAYLIGHT
END:VTIMEZONE
BEGIN:VEVENT
UID:calendar.38975.field_fc_date.0@www.baltimoreculture.org
DTSTAMP:20260423T085610Z
ATTACH;FMTTYPE=image/jpeg:https://www.baltimoreculture.org/sites/default/fi
 les/event-image/EyesOnBaltimore.jpeg
CATEGORIES:Lectures/ Workshops,Professional Development,Other
CREATED:20251009T184858Z
DESCRIPTION:KeraLink International invites you to /Eyes on Baltimore/, a h
 appy hour with  purpose. Enjoy cocktails, light bites, and a surprise in
 teractive activity  that brings our mission to life in a fun and memorable
  way!
DTSTART;TZID=America/New_York:20251023T170000
DTEND;TZID=America/New_York:20251023T190000
LAST-MODIFIED:20251012T154444Z
LOCATION:The Bygone Mezzanine, #29th floor, 400 International Drive, Bal
 timore, MD
SUMMARY:Eyes On Baltimore
URL:https://keralink.org/events/eyes-on-baltimore/
X-GBCA-NID:38975
END:VEVENT
END:VCALENDAR
