BEGIN:VCALENDAR
VERSION:2.0
PRODID:-//Date iCal v2.14-dev//NONSGML kigkonsult.se iCalcreator 2.16.6//
METHOD:PUBLISH
X-WR-CALNAME;VALUE=TEXT:Greater Baltimore Cultural Alliance
BEGIN:VTIMEZONE
TZID:America/New_York
BEGIN:STANDARD
DTSTART:20261101T020000
TZOFFSETFROM:-0400
TZOFFSETTO:-0500
TZNAME:EST
END:STANDARD
BEGIN:DAYLIGHT
DTSTART:20260308T020000
TZOFFSETFROM:-0500
TZOFFSETTO:-0400
TZNAME:EDT
END:DAYLIGHT
END:VTIMEZONE
BEGIN:VEVENT
UID:calendar.39002.field_fc_date.0@www.baltimoreculture.org
DTSTAMP:20260424T183624Z
ATTACH;FMTTYPE=image/jpeg:https://www.baltimoreculture.org/sites/default/fi
 les/event-image/BC%20Nutcracker%20Rory_0.jpeg
CATEGORIES:Performance
CREATED:20251014T181925Z
DESCRIPTION:Experience the magic of the holiday season with Ballet Chesapea
 ke's  enchanting production of The Nutcracker! This beloved tradition brin
 gs  Tchaikovsky’s timeless score to life with exquisite dancing, dazzling
   costumes, and stunning sets.\n\nPerformances Saturday, Dec. 13 at 11 a
 m & 4 pm and Sunday, Dec. 14 at 1 pm.  Tickets: click here [1]\n\n\n[1] h
 ttp://www.tinyurl.com/bcnutcracker2025
DTSTART;TZID=America/New_York:20251213T110000
DTEND;TZID=America/New_York:20251213T130000
LAST-MODIFIED:20251016T192444Z
LOCATION:Stephens Hall Theatre, 7900 Stephens Avenue, Towson, MD
SUMMARY:The Nutcracker - Ballet Chesapeake
URL:www.balletchesapeake.org/season
X-GBCA-NID:39002
END:VEVENT
BEGIN:VEVENT
UID:calendar.39002.field_fc_date.0@www.baltimoreculture.org
DTSTAMP:20260424T183624Z
ATTACH;FMTTYPE=image/jpeg:https://www.baltimoreculture.org/sites/default/fi
 les/event-image/BC%20Nutcracker%20Rory_0.jpeg
CATEGORIES:Performance
CREATED:20251014T181925Z
DESCRIPTION:Experience the magic of the holiday season with Ballet Chesapea
 ke's  enchanting production of The Nutcracker! This beloved tradition brin
 gs  Tchaikovsky’s timeless score to life with exquisite dancing, dazzling
   costumes, and stunning sets.\n\nPerformances Saturday, Dec. 13 at 11 a
 m & 4 pm and Sunday, Dec. 14 at 1 pm.  Tickets: click here [1]\n\n\n[1] h
 ttp://www.tinyurl.com/bcnutcracker2025
DTSTART;TZID=America/New_York:20251213T160000
DTEND;TZID=America/New_York:20251213T180000
LAST-MODIFIED:20251016T192444Z
LOCATION:Stephens Hall Theatre, 7900 Stephens Avenue, Towson, MD
SUMMARY:The Nutcracker - Ballet Chesapeake
URL:www.balletchesapeake.org/season
X-GBCA-NID:39002
END:VEVENT
BEGIN:VEVENT
UID:calendar.39002.field_fc_date.0@www.baltimoreculture.org
DTSTAMP:20260424T183624Z
ATTACH;FMTTYPE=image/jpeg:https://www.baltimoreculture.org/sites/default/fi
 les/event-image/BC%20Nutcracker%20Rory_0.jpeg
CATEGORIES:Performance
CREATED:20251014T181925Z
DESCRIPTION:Experience the magic of the holiday season with Ballet Chesapea
 ke's  enchanting production of The Nutcracker! This beloved tradition brin
 gs  Tchaikovsky’s timeless score to life with exquisite dancing, dazzling
   costumes, and stunning sets.\n\nPerformances Saturday, Dec. 13 at 11 a
 m & 4 pm and Sunday, Dec. 14 at 1 pm.  Tickets: click here [1]\n\n\n[1] h
 ttp://www.tinyurl.com/bcnutcracker2025
DTSTART;TZID=America/New_York:20251214T130000
DTEND;TZID=America/New_York:20251214T150000
LAST-MODIFIED:20251016T192444Z
LOCATION:Stephens Hall Theatre, 7900 Stephens Avenue, Towson, MD
SUMMARY:The Nutcracker - Ballet Chesapeake
URL:www.balletchesapeake.org/season
X-GBCA-NID:39002
END:VEVENT
END:VCALENDAR
