BEGIN:VCALENDAR
VERSION:2.0
PRODID:-//Date iCal v2.14-dev//NONSGML kigkonsult.se iCalcreator 2.16.6//
METHOD:PUBLISH
X-WR-CALNAME;VALUE=TEXT:Greater Baltimore Cultural Alliance
BEGIN:VTIMEZONE
TZID:America/New_York
BEGIN:STANDARD
DTSTART:20261101T020000
TZOFFSETFROM:-0400
TZOFFSETTO:-0500
TZNAME:EST
END:STANDARD
BEGIN:DAYLIGHT
DTSTART:20270314T020000
TZOFFSETFROM:-0500
TZOFFSETTO:-0400
TZNAME:EDT
END:DAYLIGHT
END:VTIMEZONE
BEGIN:VEVENT
UID:calendar.39737.field_fc_date.0@www.baltimoreculture.org
DTSTAMP:20260422T153928Z
ATTACH;FMTTYPE=image/jpeg:https://www.baltimoreculture.org/sites/default/fi
 les/event-image/BCS%20Promo%201080x1350.Holes_.jpg
CATEGORIES:Performance,Activities
CREATED:20251216T165550Z
DESCRIPTION:Based on the beloved Newbery Medal- and National Book Award-win
 ning  novel—and the hit 2003 film starring Shia LaBeouf, Sigourney Weaver
 , and  Jon Voight—this theatrical adaptation is a thrilling ride for audi
 ences of  all ages. When teenager Stanley Yelnats is hit by a pair of fall
 ing sneakers,  his unlucky family curse strikes again. Wrongly convicted 
 of stealing the  sneakers and sent to the mysterious Camp Green Lake, Sta
 nley joins a ragtag  group of boys digging endless holes under the blister
 ing sun—all in the  name of building character.
DTSTART;TZID=America/New_York:20260416T193000
DTEND;TZID=America/New_York:20260510T220000
GEO:+39.298155;-76.613241
LAST-MODIFIED:20260212T202412Z
LOCATION:Baltimore Center Stage, 700 N. Calvert Street, Baltimore, MD
RRULE:FREQ=WEEKLY;UNTIL=20260512T075959Z;INTERVAL=1;BYDAY=SU,WE,TH,FR,SA;WK
 ST=SU
SUMMARY:Holes
URL:centerstage.org
X-GBCA-NID:39737
END:VEVENT
END:VCALENDAR
