BEGIN:VCALENDAR
VERSION:2.0
PRODID:-//Date iCal v2.14-dev//NONSGML kigkonsult.se iCalcreator 2.16.6//
METHOD:PUBLISH
X-WR-CALNAME;VALUE=TEXT:Greater Baltimore Cultural Alliance
BEGIN:VTIMEZONE
TZID:Africa/Abidjan
BEGIN:STANDARD
DTSTART:19120101T000000
TZOFFSETFROM:-001608
TZOFFSETTO:+0000
TZNAME:GMT
END:STANDARD
END:VTIMEZONE
BEGIN:VEVENT
UID:calendar.39899.field_fc_date.0@www.baltimoreculture.org
DTSTAMP:20260425T170643Z
ATTACH;FMTTYPE=image/png:https://www.baltimoreculture.org/sites/default/fil
 es/event-image/Screen%20Shot%202026-01-06%20at%2011.15.33%20AM.png
CATEGORIES:Performance
CREATED:20260114T143016Z
DESCRIPTION:*Corned Beef Hash at Black Cherry *\n\n*Friday January 23 at 7p
 m * doors open at 6:30pm\n\n1115 Hollins Street Baltimore, MD 21223\n\nTi
 ckets $15-25 Available Now: https://blackcherry.ticketspice.com/corned-bee
 f-hash [1]\n\n\n[1] https://blackcherry.ticketspice.com/corned-beef-hash
DTSTART;TZID=Africa/Abidjan:20260124T000000
DTEND;TZID=Africa/Abidjan:20260124T013000
GEO:+39.287228;-76.635758
LAST-MODIFIED:20260114T202340Z
LOCATION:Black Cherry Puppet Theater, 1115 Hollins Street, Baltimore, MD
SUMMARY:Corned Beef Hash (irish klezmer fusion band) at Black Cherry
URL;TYPE=URI:https://www.baltimoreculture.org/calendar/event/39899/corned-b
 eef-hash-irish-klezmer-fusion-band-black-cherry
X-GBCA-NID:39899
END:VEVENT
END:VCALENDAR
