BEGIN:VCALENDAR
VERSION:2.0
PRODID:-//Date iCal v2.14-dev//NONSGML kigkonsult.se iCalcreator 2.16.6//
METHOD:PUBLISH
X-WR-CALNAME;VALUE=TEXT:Greater Baltimore Cultural Alliance
BEGIN:VTIMEZONE
TZID:America/New_York
BEGIN:STANDARD
DTSTART:20261101T020000
TZOFFSETFROM:-0400
TZOFFSETTO:-0500
TZNAME:EST
END:STANDARD
BEGIN:DAYLIGHT
DTSTART:20270314T020000
TZOFFSETFROM:-0500
TZOFFSETTO:-0400
TZNAME:EDT
END:DAYLIGHT
END:VTIMEZONE
BEGIN:VEVENT
UID:calendar.39941.field_fc_date.0@www.baltimoreculture.org
DTSTAMP:20260426T005404Z
ATTACH;FMTTYPE=image/jpeg:https://www.baltimoreculture.org/sites/default/fi
 les/event-image/ASG_4.28.2026%20Judah%20Adashi.jpeg
CATEGORIES:Lectures/ Workshops
CREATED:20260119T223311Z
DESCRIPTION:*/The Music of Stevie Wonder/* with Judah Adashi, Composer and
  Composition  Faculty at Peabody Institute of the Johns Hopkins University
 , Artistic  Director, Evolution Contemporary Music Series & Rise Bmore\n
 \nDr. Judah Adashi, a composer on the faculty of the Peabody Institute of
  the  Johns Hopkins University, returns to the Art Seminar Group to discu
 ss the  music of composer, pianist, singer, and activist Stevie Wonder.
  Dr. Adashi  will focus on the transformative albums that comprise Wonder'
 s so-called  'Classic Period' in the 1970s.
DTSTART;TZID=America/New_York:20260428T133000
DTEND;TZID=America/New_York:20260428T150000
LAST-MODIFIED:20260120T163917Z
LOCATION:The Woman's Club of Roland Park, 4500 Roland Avenue, Baltimore,
  MD
SUMMARY:The Music of Stevie Wonder
URL:https://www.artseminargroup.org/online-payment/registration/lecture-the
 -music-of-stevie-wonder
X-GBCA-NID:39941
END:VEVENT
END:VCALENDAR
