BEGIN:VCALENDAR
VERSION:2.0
PRODID:-//Date iCal v2.14-dev//NONSGML kigkonsult.se iCalcreator 2.16.6//
METHOD:PUBLISH
X-WR-CALNAME;VALUE=TEXT:Greater Baltimore Cultural Alliance
BEGIN:VTIMEZONE
TZID:America/New_York
BEGIN:STANDARD
DTSTART:20261101T020000
TZOFFSETFROM:-0400
TZOFFSETTO:-0500
TZNAME:EST
END:STANDARD
BEGIN:DAYLIGHT
DTSTART:20270314T020000
TZOFFSETFROM:-0500
TZOFFSETTO:-0400
TZNAME:EDT
END:DAYLIGHT
END:VTIMEZONE
BEGIN:VEVENT
UID:calendar.39980.field_fc_date.0@www.baltimoreculture.org
DTSTAMP:20260422T150731Z
ATTACH;FMTTYPE=image/png:https://www.baltimoreculture.org/sites/default/fil
 es/event-image/brahms.png
CATEGORIES:Performance,Lectures/ Workshops
CREATED:20260123T152111Z
DESCRIPTION:Members of the singing public are welcome to join Baltimore Cho
 ral Arts at  Peabody for Brahms' /Ein deutsches Requiem/. In this unique c
 ome-and-sing  workshop format [1], you will be a member of the audience A
 ND a member of the  choir.\n\n\n[1] https://www.youtube.com/watch?v=aEDG95
 XxrA0
DTSTART;TZID=America/New_York:20260429T190000
DTEND;TZID=America/New_York:20260429T210000
GEO:+39.297183;-76.615203
LAST-MODIFIED:20260126T160204Z
LOCATION:Peabody Conservatory, 1 E Mount Vernon Pl, Baltimore, MD
SUMMARY:Brahms Requiem Come-and-Sing
URL:https://www.baltimorechoralarts.org/music/all/display/175/index.php
X-GBCA-NID:39980
END:VEVENT
BEGIN:VEVENT
UID:calendar.39980.field_fc_date.0@www.baltimoreculture.org
DTSTAMP:20260422T150731Z
ATTACH;FMTTYPE=image/png:https://www.baltimoreculture.org/sites/default/fil
 es/event-image/brahms.png
CATEGORIES:Performance,Lectures/ Workshops
CREATED:20260123T152111Z
DESCRIPTION:Members of the singing public are welcome to join Baltimore Cho
 ral Arts at  Peabody for Brahms' /Ein deutsches Requiem/. In this unique c
 ome-and-sing  workshop format [1], you will be a member of the audience A
 ND a member of the  choir.\n\n\n[1] https://www.youtube.com/watch?v=aEDG95
 XxrA0
DTSTART;TZID=America/New_York:20260503T160000
DTEND;TZID=America/New_York:20260503T210000
GEO:+39.297183;-76.615203
LAST-MODIFIED:20260126T160204Z
LOCATION:Peabody Conservatory, 1 E Mount Vernon Pl, Baltimore, MD
SUMMARY:Brahms Requiem Come-and-Sing
URL:https://www.baltimorechoralarts.org/music/all/display/175/index.php
X-GBCA-NID:39980
END:VEVENT
BEGIN:VEVENT
UID:calendar.39980.field_fc_date.0@www.baltimoreculture.org
DTSTAMP:20260422T150731Z
ATTACH;FMTTYPE=image/png:https://www.baltimoreculture.org/sites/default/fil
 es/event-image/brahms.png
CATEGORIES:Performance,Lectures/ Workshops
CREATED:20260123T152111Z
DESCRIPTION:Members of the singing public are welcome to join Baltimore Cho
 ral Arts at  Peabody for Brahms' /Ein deutsches Requiem/. In this unique c
 ome-and-sing  workshop format [1], you will be a member of the audience A
 ND a member of the  choir.\n\n\n[1] https://www.youtube.com/watch?v=aEDG95
 XxrA0
DTSTART;TZID=America/New_York:20260504T190000
DTEND;TZID=America/New_York:20260504T210000
GEO:+39.297183;-76.615203
LAST-MODIFIED:20260126T160204Z
LOCATION:Peabody Conservatory, 1 E Mount Vernon Pl, Baltimore, MD
SUMMARY:Brahms Requiem Come-and-Sing
URL:https://www.baltimorechoralarts.org/music/all/display/175/index.php
X-GBCA-NID:39980
END:VEVENT
END:VCALENDAR
