BEGIN:VCALENDAR
VERSION:2.0
PRODID:-//Date iCal v2.14-dev//NONSGML kigkonsult.se iCalcreator 2.16.6//
METHOD:PUBLISH
X-WR-CALNAME;VALUE=TEXT:Greater Baltimore Cultural Alliance
BEGIN:VTIMEZONE
TZID:America/New_York
BEGIN:STANDARD
DTSTART:20261101T020000
TZOFFSETFROM:-0400
TZOFFSETTO:-0500
TZNAME:EST
END:STANDARD
BEGIN:DAYLIGHT
DTSTART:20260308T020000
TZOFFSETFROM:-0500
TZOFFSETTO:-0400
TZNAME:EDT
END:DAYLIGHT
END:VTIMEZONE
BEGIN:VEVENT
UID:calendar.40079.field_fc_date.0@www.baltimoreculture.org
DTSTAMP:20260422T155618Z
ATTACH;FMTTYPE=image/jpeg:https://www.baltimoreculture.org/sites/default/fi
 les/event-image/March-8-judas-maccabeus-large-web.jpg
CATEGORIES:Performance
CREATED:20260212T191208Z
DESCRIPTION:Join us for a powerful performance of Handel’s oratorio */Judas
   Maccabeus/*, a stirring celebration of heroism, faith, and victory. T
 his  dramatic and uplifting work features majestic choruses, expressive s
 olos, and  dynamic orchestral writing, brought to life in the beautiful 
 setting of  Baltimore Hebrew Congregation. Experience one of Handel’s most
  beloved  masterpieces performed by Bach in Baltimore’s talented ensemble.
DTSTART;TZID=America/New_York:20260308T160000
DTEND;TZID=America/New_York:20260308T180000
GEO:+39.371605;-76.709261
LAST-MODIFIED:20260212T202412Z
LOCATION:Baltimore Hebrew Congregation, 7401 Park Heights Avenue, Baltimo
 re, MD
SUMMARY:Bach in Baltimore Performs: Handel's 'Judas Maccabaeus'
URL:https://bachinbaltimore.org/events/handel-judas-maccabeus/
X-GBCA-NID:40079
END:VEVENT
END:VCALENDAR
