BEGIN:VCALENDAR
VERSION:2.0
PRODID:-//Date iCal v2.14-dev//NONSGML kigkonsult.se iCalcreator 2.16.6//
METHOD:PUBLISH
X-WR-CALNAME;VALUE=TEXT:Greater Baltimore Cultural Alliance
BEGIN:VTIMEZONE
TZID:America/New_York
BEGIN:STANDARD
DTSTART:20261101T020000
TZOFFSETFROM:-0400
TZOFFSETTO:-0500
TZNAME:EST
END:STANDARD
BEGIN:DAYLIGHT
DTSTART:20270314T020000
TZOFFSETFROM:-0500
TZOFFSETTO:-0400
TZNAME:EDT
END:DAYLIGHT
END:VTIMEZONE
BEGIN:VEVENT
UID:calendar.40082.field_fc_date.0@www.baltimoreculture.org
DTSTAMP:20260422T190644Z
ATTACH;FMTTYPE=image/png:https://www.baltimoreculture.org/sites/default/fil
 es/u13368/thumb_america-250-1400-red-bg.png
CATEGORIES:Performance
CREATED:20260213T144231Z
DESCRIPTION:*In 2026, we celebrate 250 years since the founding of our nat
 ion! In  drafting the Declaration of Independence, our founding fathers r
 isked  everything to bring about the birth of a new nation. We now honor t
 hat legacy  with music that exemplifies the American spirit through the mu
 sic of  legendary composer and conductor, John Williams.*
DTSTART;TZID=America/New_York:20260428T193000
DTEND;TZID=America/New_York:20260428T213000
LAST-MODIFIED:20260217T135739Z
LOCATION:Calvert High School Auditorium, 520 Fox Run Boulevard, Prince Fr
 ederick, MD
SUMMARY:Maryland Winds - America 250: Through the Eyes of John Williams
URL:https://www.marylandwinds.com/index.html
X-GBCA-NID:40082
END:VEVENT
END:VCALENDAR
