BEGIN:VCALENDAR
VERSION:2.0
PRODID:-//Date iCal v2.14-dev//NONSGML kigkonsult.se iCalcreator 2.16.6//
METHOD:PUBLISH
X-WR-CALNAME;VALUE=TEXT:Greater Baltimore Cultural Alliance
BEGIN:VTIMEZONE
TZID:America/New_York
BEGIN:STANDARD
DTSTART:20261101T020000
TZOFFSETFROM:-0400
TZOFFSETTO:-0500
TZNAME:EST
END:STANDARD
BEGIN:DAYLIGHT
DTSTART:20270314T020000
TZOFFSETFROM:-0500
TZOFFSETTO:-0400
TZNAME:EDT
END:DAYLIGHT
END:VTIMEZONE
BEGIN:VEVENT
UID:calendar.40255.field_fc_date.0@www.baltimoreculture.org
DTSTAMP:20260423T061701Z
ATTACH;FMTTYPE=image/jpeg:https://www.baltimoreculture.org/sites/default/fi
 les/event-image/RedwhiteblueStars.jpg
CATEGORIES:Performance
CREATED:20260306T151802Z
DESCRIPTION:Columbia Pro Cantare joins with choruses across the country in 
 a year-long  celebration of America's 250th.CPC's May 2, 2026, 8 pm conc
 ert at the Jim  Rouse Theatre in Columbia will include a newly commissione
 d work, 'Sing!  America 250!.' Additional works on the program include 'L
 ift Every Voice and  Sing,' 'Ameria the Beautiful,' and 'The Star-Spangl
 ed Banner.' The  pre-concert lecture at 7 pm will increase the audience's 
 understanding and  appreciation of the music.
DTSTART;TZID=America/New_York:20260502T200000
DTEND;TZID=America/New_York:20260502T213000
GEO:+39.217379;-76.872637
LAST-MODIFIED:20260310T162113Z
LOCATION:Jim Rouse Theatre, 5460 Trumpeter Road, Columbia, MD
SUMMARY:Columbia Pro Cantare: Sing Democracy 2026
URL:http://www.procantare.org
X-GBCA-NID:40255
END:VEVENT
END:VCALENDAR
