BEGIN:VCALENDAR
VERSION:2.0
PRODID:-//Date iCal v2.14-dev//NONSGML kigkonsult.se iCalcreator 2.16.6//
METHOD:PUBLISH
X-WR-CALNAME;VALUE=TEXT:Greater Baltimore Cultural Alliance
BEGIN:VTIMEZONE
TZID:America/New_York
BEGIN:STANDARD
DTSTART:20261101T020000
TZOFFSETFROM:-0400
TZOFFSETTO:-0500
TZNAME:EST
END:STANDARD
BEGIN:DAYLIGHT
DTSTART:20270314T020000
TZOFFSETFROM:-0500
TZOFFSETTO:-0400
TZNAME:EDT
END:DAYLIGHT
END:VTIMEZONE
BEGIN:VEVENT
UID:calendar.40288.field_fc_date.0@www.baltimoreculture.org
DTSTAMP:20260424T033802Z
ATTACH;FMTTYPE=image/jpeg:https://www.baltimoreculture.org/sites/default/fi
 les/event-image/Willy%20Wonka%20Jr..jpg
CATEGORIES:Performance
CREATED:20260317T232801Z
DESCRIPTION:Don’t miss The Talent Machine Company's third annual production
  in  partnership with The Penguin Project, a nationally recognized organi
 zation  dedicated to giving kids with disabilities the opportunity to perf
 orm on  stage in a supported way! This year, our amazingly talented cast 
 of 31  artists will perform Willy Wonka Jr. supported by 38 peer mentors. 
 Mark your  calendars for April 24 (7 pm) and April 25 (2 pm) and get your 
 tickets today!  Performances will be at the Mid Atlantic Community Church 
 (MACC) on Rt. 424  (Davidsonville Road) in Gambrills. Tickets are just $15
 .
DTSTART;TZID=America/New_York:20260424T190000
DTEND;TZID=America/New_York:20260424T210000
LAST-MODIFIED:20260324T184128Z
LOCATION:Mid Atlantic Community Church, 2485 Davidsonville Road, Gambrill
 s, MD
SUMMARY:'Willy Wonka Jr.' Presented by The Talent Machine Co. & The Penguin
  Project
URL:https://www.eventbrite.com/cc/willy-wonka-jr-with-tmc-the-penguin-proje
 ct-4815234?utm-campaign=social&utm-content=creatorshare&utm-medium=discove
 ry&utm-term=odclsxcollection&utm-source=cp&aff=escb
X-GBCA-NID:40288
END:VEVENT
END:VCALENDAR
