BEGIN:VCALENDAR
VERSION:2.0
PRODID:-//Date iCal v2.14-dev//NONSGML kigkonsult.se iCalcreator 2.16.6//
METHOD:PUBLISH
X-WR-CALNAME;VALUE=TEXT:Greater Baltimore Cultural Alliance
BEGIN:VTIMEZONE
TZID:America/New_York
BEGIN:STANDARD
DTSTART:20261101T020000
TZOFFSETFROM:-0400
TZOFFSETTO:-0500
TZNAME:EST
END:STANDARD
BEGIN:DAYLIGHT
DTSTART:20270314T020000
TZOFFSETFROM:-0500
TZOFFSETTO:-0400
TZNAME:EDT
END:DAYLIGHT
END:VTIMEZONE
BEGIN:VEVENT
UID:calendar.40418.field_fc_date.0@www.baltimoreculture.org
DTSTAMP:20260426T030128Z
ATTACH;FMTTYPE=image/png:https://www.baltimoreculture.org/sites/default/fil
 es/event-image/April%2025%20-%208%20pm.png
CATEGORIES:Performance,Nightlife
CREATED:20260410T004424Z
DESCRIPTION:Saturday night at Highwire Improv: the show that has no script 
 and all the  soul.\n\nAll seating is general admission. First come, first
  seated.\n\n**Tonight's lineup is:**\n\n**Hannah LIVE: The One-Han Show! —
  **Hannah LIVE! is Baltimore's only  one-Han show, full of monologues, c
 haracters, songs, skits, and security.
DTSTART;TZID=America/New_York:20260425T200000
DTEND;TZID=America/New_York:20260425T210000
LAST-MODIFIED:20260414T170822Z
LOCATION:The Highwire Center, 400 S. Conkling Street, Baltimore, MD
SUMMARY:Hannah LIVE! The One-Han Show at The Highwire Center
URL:https://www.eventbrite.com/e/hannah-live-the-one-han-show-at-the-highwi
 re-center-tickets-1985771898203?aff=ebdsoporgprofile
X-GBCA-NID:40418
END:VEVENT
END:VCALENDAR
