BEGIN:VCALENDAR
VERSION:2.0
PRODID:-//Date iCal v2.14-dev//NONSGML kigkonsult.se iCalcreator 2.16.6//
METHOD:PUBLISH
X-WR-CALNAME;VALUE=TEXT:Greater Baltimore Cultural Alliance
BEGIN:VTIMEZONE
TZID:America/New_York
BEGIN:STANDARD
DTSTART:20261101T020000
TZOFFSETFROM:-0400
TZOFFSETTO:-0500
TZNAME:EST
END:STANDARD
BEGIN:DAYLIGHT
DTSTART:20270314T020000
TZOFFSETFROM:-0500
TZOFFSETTO:-0400
TZNAME:EDT
END:DAYLIGHT
END:VTIMEZONE
BEGIN:VEVENT
UID:calendar.40425.field_fc_date.0@www.baltimoreculture.org
DTSTAMP:20260426T042452Z
ATTACH;FMTTYPE=image/jpeg:https://www.baltimoreculture.org/sites/default/fi
 les/event-image/lockbox1_0.jpeg
CATEGORIES:Performance,Nightlife
CREATED:20260410T175832Z
DESCRIPTION:The first LOCKBOX had y'all begging for more, so we’re serving
  you  PLENTYYYY\n\nAs always, LOCKBOX is a fundraver for QT friends in Ba
 ltimore and their  survival needs♡\n\nHave you ever been psychically compe
 lled to make it clap?? To twerk on it,  even? Come experience the life-al
 tering hypnosis of sets that are 100%  guaranteed to get u sweating
DTSTART;TZID=America/New_York:20260425T200000
DTEND;TZID=America/New_York:20260426T020000
LAST-MODIFIED:20260414T170819Z
LOCATION:Le Mondo, 406 North Howard Street, Baltimore, MD
SUMMARY:Fundraver: Lockbox
URL:https://www.lemondo.org/events/dj-music-lockbox
X-GBCA-NID:40425
END:VEVENT
END:VCALENDAR
