BEGIN:VCALENDAR
VERSION:2.0
PRODID:-//Date iCal v2.14-dev//NONSGML kigkonsult.se iCalcreator 2.16.6//
METHOD:PUBLISH
X-WR-CALNAME;VALUE=TEXT:Greater Baltimore Cultural Alliance
BEGIN:VTIMEZONE
TZID:America/New_York
BEGIN:STANDARD
DTSTART:20261101T020000
TZOFFSETFROM:-0400
TZOFFSETTO:-0500
TZNAME:EST
END:STANDARD
BEGIN:DAYLIGHT
DTSTART:20270314T020000
TZOFFSETFROM:-0500
TZOFFSETTO:-0400
TZNAME:EDT
END:DAYLIGHT
END:VTIMEZONE
BEGIN:VEVENT
UID:calendar.40440.field_fc_date.0@www.baltimoreculture.org
DTSTAMP:20260422T135416Z
ATTACH;FMTTYPE=image/jpeg:https://www.baltimoreculture.org/sites/default/fi
 les/u9749/Online%20Graphic%202_0.jpg
CATEGORIES:Exhibition
CREATED:20260414T205027Z
DESCRIPTION:Join us at the opening for /*Janice M. Crum: Floralia*/. These 
 new paintings  and collage are inspired by the ancient Roman spring festiv
 al to honor  Floralia, Goddess of Flowers. Crum is a multidisciplinary ar
 tist,  spiritualist, and single mother.
DTSTART;TZID=America/New_York:20260509T100000
DTEND;TZID=America/New_York:20260509T130000
LAST-MODIFIED:20260421T161648Z
LOCATION:Gallery 1448, 1448 East Baltimore Street, Baltimore, MD
SUMMARY:Janice M. Crum at Gallery 1448 (Opening Reception)
URL;TYPE=URI:https://www.baltimoreculture.org/calendar/event/40440/janice-m
 -crum-gallery-1448-opening-reception
X-GBCA-NID:40440
END:VEVENT
END:VCALENDAR
