BEGIN:VCALENDAR
VERSION:2.0
PRODID:-//Date iCal v2.14-dev//NONSGML kigkonsult.se iCalcreator 2.16.6//
METHOD:PUBLISH
X-WR-CALNAME;VALUE=TEXT:Greater Baltimore Cultural Alliance
BEGIN:VTIMEZONE
TZID:America/New_York
BEGIN:STANDARD
DTSTART:20261101T020000
TZOFFSETFROM:-0400
TZOFFSETTO:-0500
TZNAME:EST
END:STANDARD
BEGIN:DAYLIGHT
DTSTART:20270314T020000
TZOFFSETFROM:-0500
TZOFFSETTO:-0400
TZNAME:EDT
END:DAYLIGHT
END:VTIMEZONE
BEGIN:VEVENT
UID:calendar.40460.field_fc_date.0@www.baltimoreculture.org
DTSTAMP:20260422T115704Z
ATTACH;FMTTYPE=image/png:https://www.baltimoreculture.org/sites/default/fil
 es/event-image/May%201%20-%208%20pm.png
CATEGORIES:Performance,Activities,Nightlife
CREATED:20260418T153538Z
DESCRIPTION:Your Friday night just found its purpose. Highwire Improv. Be t
 here. Join  comedy fans who make Highwire their go-to weekend destination.
 \n\nTickets on sale now. Your best night out awaits.\n\n**Tonight's lineup
  is:**\n\n**Local Spot: **Some say Local Spot is the longest-running area 
 team bringing  a single story to life right before your very eyes!
DTSTART;TZID=America/New_York:20260501T200000
DTEND;TZID=America/New_York:20260501T213000
LAST-MODIFIED:20260421T161646Z
LOCATION:Highwire Improv, 400 S. Conkling Street, Baltimore, MD
SUMMARY:Celebrating Neighbors: Improv with A++ and Bao Di's Lucy Wang
URL:https://www.highwireimprov.com
X-GBCA-NID:40460
END:VEVENT
END:VCALENDAR
