BEGIN:VCALENDAR
VERSION:2.0
PRODID:-//Date iCal v2.14-dev//NONSGML kigkonsult.se iCalcreator 2.16.6//
METHOD:PUBLISH
X-WR-CALNAME;VALUE=TEXT:Greater Baltimore Cultural Alliance
BEGIN:VTIMEZONE
TZID:America/New_York
BEGIN:STANDARD
DTSTART:20261101T020000
TZOFFSETFROM:-0400
TZOFFSETTO:-0500
TZNAME:EST
END:STANDARD
BEGIN:DAYLIGHT
DTSTART:20270314T020000
TZOFFSETFROM:-0500
TZOFFSETTO:-0400
TZNAME:EDT
END:DAYLIGHT
END:VTIMEZONE
BEGIN:VEVENT
UID:calendar.40468.field_fc_date.0@www.baltimoreculture.org
DTSTAMP:20260422T134901Z
ATTACH;FMTTYPE=image/png:https://www.baltimoreculture.org/sites/default/fil
 es/event-image/Annual-Seconds-Sale-Preview-Party-1-768x768_0.png
CATEGORIES:Activities
CREATED:20260420T184229Z
DESCRIPTION:Saturday, June 13, 2026 • 10:00 am – 4:00 pm Free and open to
  the public.\n\nShop for unique, functional, and beautifully imperfect c
 eramic pieces made by  talented artists in our community.\n\nSunday, June
  14, 2026 • 10:00 am – 12:00 pm Free and open to the public.\n\nLast‑chan
 ce treasures, special surprises, and the final opportunity to  support B
 altimore Clayworks through this beloved annual event.
DTSTART;TZID=America/New_York:20260613T100000
DTEND;TZID=America/New_York:20260614T160000
GEO:+39.367622;-76.653195
LAST-MODIFIED:20260421T161643Z
LOCATION:Baltimore Clayworks, 5707 Smith Avenue, Baltimore, MD
SUMMARY:Annual Pottery Seconds Sale
URL:https://baltimoreclayworks.org/event/annual-pottery-seconds-sale-previe
 w-party/
X-GBCA-NID:40468
END:VEVENT
END:VCALENDAR
