BEGIN:VCALENDAR
VERSION:2.0
PRODID:-//Date iCal v2.14-dev//NONSGML kigkonsult.se iCalcreator 2.16.6//
METHOD:PUBLISH
X-WR-CALNAME;VALUE=TEXT:Greater Baltimore Cultural Alliance
BEGIN:VTIMEZONE
TZID:America/New_York
BEGIN:STANDARD
DTSTART:20151101T020000
TZOFFSETFROM:-0400
TZOFFSETTO:-0500
TZNAME:EST
END:STANDARD
BEGIN:DAYLIGHT
DTSTART:20150308T020000
TZOFFSETFROM:-0500
TZOFFSETTO:-0400
TZNAME:EDT
END:DAYLIGHT
END:VTIMEZONE
BEGIN:VEVENT
UID:calendar.4232.field_fc_date.0@www.baltimoreculture.org
DTSTAMP:20260423T041706Z
ATTACH;FMTTYPE=image/jpeg:https://www.baltimoreculture.org/sites/default/fi
 les/u721/LEGO%20Opening-103.jpg
CATEGORIES:Exhibition,
CREATED:20150127T150159Z
DESCRIPTION:Builders of all ages are invited to explore, build and play in
  our newest  traveling exhibition – LEGO® Castle Adventure! In this exhibi
 t kids and  their families are transported to a LEGO® kingdom where they t
 oo can become  master castle builders, using one of the greatest building
  materials of all  time – LEGO bricks.\n\nVisitors will be immersed in cas
 tle-life through experiences and activities  including:
DTSTART;TZID=America/New_York:20150214T100000
DTEND;TZID=America/New_York:20150214T170000
GEO:+39.288934;-76.606288
LAST-MODIFIED:20180815T000022Z
LOCATION:Port Discovery Children's Museum, 35 Market Place, Baltimore, M
 D
RRULE:FREQ=DAILY;UNTIL=20150921T075959Z;INTERVAL=1;WKST=SU
SUMMARY:LEGO Castle Adventure Exhibit
URL:www.portdiscovery.org
X-GBCA-NID:4232
END:VEVENT
END:VCALENDAR
